Workbook

Sheet Geometry
A1: Geometric Relationships
A3: Region | B3: Type | C3: # Dimensions | D3: Minimum | F3: Maximum
A4: TSR | B4: Axial | C4: 3 | D4: 1-Axis | E4: 2-Plane | F4: 3-Volume
A5: TR | B5: Planar | C5: 3 | D5: 1/4-Hypervolume | E5: 1/3-Volume | F5: 1/2-Plane

Sheet TSR
A1: Time-Space Region Speed Ranges (maximum volume, 3 axes)
A3: Speed Range | C3: Units of Speed per Dimension
A4: 0 | B4: Unit motion | C4: 0 | D4: 0 | E4: 0
A5: 1-x | B5: Low | C5: 1 | D5: 0 | E5: 0
A6: 1 | C6: 1 | D6: 1 | E6: 0
A7: 2-x | B7: Intermediate | C7: 1 | D7: 1 | E7: 1
A8: 2 | C8: 2 | D8: 1 | E8: 1
A9: 3-x | B9: High | C9: 2 | D9: 2 | E9: 1
A10: +1 | B10: M/C boundary | C10: 2 | D10: 2 | E10: 2

Sheet TR
A1: Time Region Speed Ranges (minimum hypervolume, 4 planes)
A2: The Periodic Table
A4: Speed Range | B4: Atom | C4: Units of Speed per Dimension | G4: Time-Space Region | I4: Larson
C5: 1 | D5: 2 | E5: 3 | F5: 4 | G5: Rotational Depth | H5: i? | I5: A-B-C (Atomic) | J5: Scalar Units
A6: i1-x | B6: Deuteron (RB) | C6: 0 | D6: 0 | E6: 0 | F6: 0 | G6: 0 | H6: 0 | I6: 1-0-0 | J6: 1 | K6: =2*1^2 -> 2 | L6: = 2 x 12 | M6: "s" orbitals
B7: α particle | C7: 1 | D7: 0 | E7: 0 | F7: 0 | G7: 1 | H7: 2 | I7: 1-1-0 | J7: 2 | K7: =2*1^2 -> 2 | L7: = 2 x 12
A8: i2-x | B8: He | C8: 1 | D8: 1 | E8: 0 | F8: 0 | G8: 2 | H8: 4 | I8: 2-1-0 | J8: 3 | K8: =2*2^2 -> 8 | L8: = 2 x 22 | M8: "p" orbitals
B9: Ne | C9: 1 | D9: 1 | E9: 1 | F9: 0 | G9: 3 | H9: 6 | I9: 2-2-0 | J9: 4 | K9: =2*2^2 -> 8 | L9: = 2 x 22
A10: i3-x | B10: Ar | C10: 1 | D10: 1 | E10: 1 | F10: 1 | G10: 4 | H10: 8 | I10: 3-2-0 | J10: 5 | K10: =2*3^2 -> 18 | L10: = 2 x 32 | M10: "d" orbitals
B11: Kr | C11: 2 | D11: 1 | E11: 1 | F11: 1 | G11: 5 | H11: 10 | I11: 3-3-0 | J11: 6 | K11: =2*3^2 -> 18 | L11: = 2 x 32
A12: i4-x | B12: Xe | C12: 2 | D12: 2 | E12: 1 | F12: 1 | G12: 6 | H12: 12 | I12: 4-3-0 | J12: 7 | K12: =2*4^2 -> 32 | L12: = 2 x 42 | M12: "f" orbitals
B13: Rn | C13: 2 | D13: 2 | E13: 2 | F13: 1 | G13: 7 | H13: 14 | I13: 4-4-0 | J13: 8 | K13: =2*4^2 -> 32 | L13: = 2 x 42
A14: -1 | B14: T/S boundary | C14: 2 | D14: 2 | E14: 2 | F14: 2 | G14: 8 | H14: 16 | I14: 5-4-0 | J14: 9

Sheet Rotations
A1: Possibilities in Multi-Dimensional Spaces
A3: No. of Dimensions | B3: 1-D Rotation NOTE 1 | C3: 2-D Rotation NOTE 1 | D3: Unbounded Lines | E3: Unbounded Areas | F3: Unbounded Volumes | G3: Unbounded Hyper-volume
A4: 1 | B4: 1 NOTE 2 | C4: 0 | D4: 1 | E4: 0 | F4: 0 | G4: 0
A5: 2 | B5: 3 NOTE 3 | C5: 1 NOTE 4 | D5: ∞ | E5: 1 | F5: 0 | G5: 0
A6: 3 | B6: 3 | C6: 1 NOTE 5 | D6: ∞ | E6: ∞ | F6: 1 | G6: 0
A7: 4 | B7: 4 | C7: 2 NOTE 6 | D7: ∞ | E7: ∞ | F7: ∞ | G7: 1
A9: NOTE 1 Number of Orthogonal Rotations (neither rotation has a component along the axis of the other)
A10: NOTE 2 For a one-dimensional system, only one possible rotation is the rotation of the axis itself, provided it has a zero-radius. A non-zero radius cannot be expressed as there are no other axes for the generated area.
A11: NOTE 3 For a two-dimensional system (x, y) there are three (3) possible rotations: the two (2) zero-radius rotations of x and y axes, and rotation about a point (typically the origin), with unbounded radius (0-∞), in the X-Y plane. An axis of rotation is typically needed to determine the area of the plane to be swept but since there is only one area possible, it is not ambiguous and all that is required is a point marking the center of rotation.
A12: NOTE 4 For a two-dimensional system, double-rotation is possible if at least one of the radii is zero: either two (2) zero-radii rotations about the intersection of each axis, or a non-zero radius about a point with a zero-radius about an axis passing through that point.
A13: NOTE 5 If x, y, z are the three (3) axes, there are in actuality three two-dimensional rotations -- (1) x & y, (2) y & x, and (3) z & x -- but each has a component along the others. Therefore only one (1) exclusive two-dimensional rotation is possible, but can be zero-radius or unbounded radius (0-∞) in the single plane of rotation.
A14: NOTE 6 Suppose the four (4) axes are w, x, y and z, and one two-dimensional rotation utilizes axes w & y; then another two-dimensional rotation, utilizing axes x & z, neither has any component along the other. Therefore two (2) two-dimensional rotations are possible.

Sheet ES
A1: Calculation of Equivalent Speeds (ES)
A3: R1 (TSR) | B3: R (TR) | C3: R2 | D3: Cumulative Total (CT) | E3: ES = CT-1
A4: -1 | B4: =ABS(A4)-1 -> 0 | C4: =B4^2 -> 0 | D4: =SUM(C4) -> 0 | E4: =D4-1 -> -1
A5: 1 | B5: =0-A5 -> -1 | C5: =B5^2 -> 1 | D5: =SUM(C4:C5) -> 1 | E5: =D5-1 -> 0
A6: -2 | B6: =ABS(A6)-1 -> 1 | C6: =B6^2 -> 1 | D6: =SUM(C4:C6) -> 2 | E6: =D6-1 -> 1
A7: 2 | B7: =0-A7 -> -2 | C7: =B7^2 -> 4 | D7: =SUM(C4:C7) -> 6 | E7: =D7-1 -> 5
A8: -3 | B8: =ABS(A8)-1 -> 2 | C8: =B8^2 -> 4 | D8: =SUM(C4:C8) -> 10 | E8: =D8-1 -> 9
A9: 3 | B9: =0-A9 -> -3 | C9: =B9^2 -> 9 | D9: =SUM(C4:C9) -> 19 | E9: =D9-1 -> 18
A10: -4 | B10: =ABS(A10)-1 -> 3 | C10: =B10^2 -> 9 | D10: =SUM(C4:C10) -> 28 | E10: =D10-1 -> 27
A11: 4 | B11: =0-A11 -> -4 | C11: =B11^2 -> 16 | D11: =SUM(C4:C11) -> 44 | E11: =D11-1 -> 43
A12: -5 | B12: =ABS(A12)-1 -> 4 | C12: =B12^2 -> 16 | D12: =SUM(C4:C12) -> 60 | E12: =D12-1 -> 59
A14: Equivalent Speeds of Systems with r3=0
A16: System | B16: R1 | C16: R2 | D16: r3 | E16: R1:R2:r3 | F16: Total ES
A17: SRB | B17: -1 | C17: 0 | D17: 0 | E17: -1: 0: 0 | F17: =E4 -> -1
A18: DRB-1 | B18: -1 | C18: -1 | D18: 0 | E18: -1: -1: 0 | F18: =E4+E4 -> -2
A19: DRB-2 | B19: 1 | C19: -1 | D19: 0 | E19: 1: -1: 0 | F19: =E5+E4 -> -1
A20: DRB-3 | B20: 1 | C20: 1 | D20: 0 | E20: 1: 1: 0 | F20: =E5+E5 -> 0
A21: DRB-4 | B21: -2 | C21: 1 | D21: 0 | E21: -2: 1: 0 | F21: =E6+E5 -> 1 | G21: 1
A22: He | B22: -2 | C22: -2 | D22: 0 | E22: -2: -2: 0 | F22: =E6+E6 -> 2 | G22: 2
A23: Ne | B23: 2 | C23: 2 | D23: 0 | E23: 2: 2: 0 | F23: =E7+E7 -> 10 | G23: 3
A24: Ar | B24: -3 | C24: -3 | D24: 0 | E24: -3: -3: 0 | F24: =E8+E8 -> 18 | G24: 4
A25: Kr | B25: 3 | C25: 3 | D25: 0 | E25: 3: 3: 0 | F25: =E9+E9 -> 36 | G25: 5
A26: Xe | B26: -4 | C26: -4 | D26: 0 | E26: -4: -4: 0 | F26: =E10+E10 -> 54 | G26: 6
A27: Rn | B27: 4 | C27: 4 | D27: 0 | E27: 4: 4: 0 | F27: =E11+E11 -> 86 | G27: 7
A28: Unstable (Og) | B28: -5 | C28: -5 | D28: 0 | E28: -5: -5: 0 | F28: =E12+E12 -> 118 | G28: 8

Sheet Identifications
A1: Table 3: Subatomic Particles (single, double-rotating systems) and Atoms (double, double-rotating systems)
B2: Atom # | D2: Symbol | E2: Particle / Element | H2: Double Rotating | J2: Single Rotating | K2: Linear | L2: Notation | M2: Time Region | N2: Time-Space Region | Q2: Notes
B3: count | C3: Net ES | H3: R1 turn | I3: R2 turn | J3: r3 turn | K3: shift
C4: Z | F4: Conventional | G4: RS/RS2 | H4: a1 | I4: a2 | J4: c | K4: d | L4: R1: R2: r3 | M4: Turn | N4: Shear Angle (deg) | O4: Rotational Depth | P4: i?
A5: SRB | B5: - | C5: =VLOOKUP($H5,ES!$A$4:$E$12,5,FALSE)+IF($I5<>0,VLOOKUP($I5,ES!$A$4:$E$12,5,FALSE))+$J5 -> -1 | D5: e−, β− | E5: Antipositron (Electron) | F5: e | H5: -1 | I5: 0 | J5: 0 | K5: - | L5: =H5&": "&I5&": "&J5 -> -1: 0: 0 | Q5: rotating unit of space
B6: - | C6: =VLOOKUP($H6,ES!$A$4:$E$12,5,FALSE)+IF($I6<>0,VLOOKUP($I6,ES!$A$4:$E$12,5,FALSE))+$J6 -> -1 | D6: *e− | E6: Charged Electron | F6: not recognized | H6: -1 | I6: 0 | J6: 0 | K6: 2 | L6: =H6&": "&I6&": "&J6 -> -1: 0: 0 | M6: =-M7-90 -> -270 | N6: =MOD(M6,360) -> 90 | Q6: electrical charge is LV of captured photon
B7: - | C7: =VLOOKUP($H7,ES!$A$4:$E$12,5,FALSE)+IF($I7<>0,VLOOKUP($I7,ES!$A$4:$E$12,5,FALSE))+$J7 -> 0 | E7: Uniform Motion | F7: not recognized | H7: -1 | I7: 0 | J7: 1 | K7: - | L7: =H7&": "&I7&": "&J7 -> -1: 0: 1 | M7: 180 | N7: =MOD(M7,360) -> 180 | Q7: Rotational Base (RB) of subatoms [s = ±½ħ]
B8: - | C8: =VLOOKUP($H8,ES!$A$4:$E$12,5,FALSE)+IF($I8<>0,VLOOKUP($I8,ES!$A$4:$E$12,5,FALSE))+$J8 -> 1 | D8: e+, β+ | E8: Positron | H8: -1 | I8: 0 | J8: 2 | K8: - | L8: =H8&": "&I8&": "&J8 -> -1: 0: 2 | M8: =M7+90/1 -> 270 | N8: =MOD(M8,360) -> 270 | Q8: rotating unit of time
B9: - | C9: =VLOOKUP($H9,ES!$A$4:$E$12,5,FALSE)+IF($I9<>0,VLOOKUP($I9,ES!$A$4:$E$12,5,FALSE))+$J9 -> 1 | D9: *e+ | E9: Charged Positron | F9: not recognized | H9: -1 | I9: 0 | J9: 2 | K9: 2 | L9: =H9&": "&I9&": "&J9 -> -1: 0: 2 | N9: =MOD(M9,360) -> 0 | Q9: electrical charge is LV of captured photon
A10: DRB-1 | B10: - | C10: =VLOOKUP($H10,ES!$A$4:$E$12,5,FALSE)+IF($I10<>0,VLOOKUP($I10,ES!$A$4:$E$12,5,FALSE))+$J10 -> -1 | D10: γCCW | E10: CCW Photon? | H10: -1 | I10: -1 | J10: 1 | K10: - | L10: =H10&": "&I10&": "&J10 -> -1: -1: 1 | N10: =MOD(M10,360) -> 0 | Q10: circularly-polarized
B11: - | C11: =VLOOKUP($H11,ES!$A$4:$E$12,5,FALSE)+IF($I11<>0,VLOOKUP($I11,ES!$A$4:$E$12,5,FALSE))+$J11 -> 0 | D11: p+ | E11: Particle Proton? | F11: not recognized | H11: -1 | I11: -1 | J11: 2 | K11: - | L11: =H11&": "&I11&": "&J11 -> -1: -1: 2 | N11: =MOD(M11,360) -> 0
B12: - | C12: =VLOOKUP($H12,ES!$A$4:$E$12,5,FALSE)+IF($I12<>0,VLOOKUP($I12,ES!$A$4:$E$12,5,FALSE))+$J12 -> 1 | D12: γCW | E12: CW Photon? | H12: -1 | I12: -1 | J12: 3 | K12: - | L12: =H12&": "&I12&": "&J12 -> -1: -1: 3 | N12: =MOD(M12,360) -> 0 | Q12: circularly-polarized
A13: DRB-2 | B13: - | C13: =VLOOKUP($H13,ES!$A$4:$E$12,5,FALSE)+IF($I13<>0,VLOOKUP($I13,ES!$A$4:$E$12,5,FALSE))+$J13+$K13 -> 0 | D13: γ | E13: Photon | H13: 1 | I13: -1 | J13: 0 | K13: 1 | L13: =H13&": "&I13&": "&J13 -> 1: -1: 0 | N13: =MOD(M13,360) -> 0 | Q13: no net displacement, linear-polarized
B14: - | C14: =VLOOKUP($H14,ES!$A$4:$E$12,5,FALSE)+IF($I14<>0,VLOOKUP($I14,ES!$A$4:$E$12,5,FALSE))+$J14 -> 0 | D14: νµ | E14: Muon Neutrino | H14: 1 | I14: -1 | J14: 1 | K14: - | L14: =H14&": "&I14&": "&J14 -> 1: -1: 1 | N14: =MOD(M14,360) -> 0 | Q14: no net displacement, previously known as a "massless neutron"
B15: - | C15: =VLOOKUP($H15,ES!$A$4:$E$12,5,FALSE)+IF($I15<>0,VLOOKUP($I15,ES!$A$4:$E$12,5,FALSE))+$J15 -> 0 | D15: *νµ | E15: Charged Muon Neutrino | F15: not recognized | H15: 1 | I15: -1 | J15: 1 | K15: 2 | L15: =H15&": "&I15&": "&J15 -> 1: -1: 1 | N15: =MOD(M15,360) -> 0 | Q15: electrical charge is LV of captured photon
B16: - | C16: =VLOOKUP($H16,ES!$A$4:$E$12,5,FALSE)+IF($I16<>0,VLOOKUP($I16,ES!$A$4:$E$12,5,FALSE))+$J16 -> 1 | D16: ντ | E16: Tau Neutrino | H16: 1 | I16: -1 | J16: 2 | K16: - | L16: =H16&": "&I16&": "&J16 -> 1: -1: 2 | N16: =MOD(M16,360) -> 0
A17: DRB-3 | B17: - | C17: =VLOOKUP($H17,ES!$A$4:$E$12,5,FALSE)+IF($I17<>0,VLOOKUP($I17,ES!$A$4:$E$12,5,FALSE))+$J17 -> -1 | D17: νe | E17: Electron Neutrino | G17: νe = νµ + e- | H17: 1 | I17: 1 | J17: -1 | K17: - | L17: =H17&": "&I17&": "&J17 -> 1: 1: -1 | N17: =MOD(M17,360) -> 0
B18: - | C18: =VLOOKUP($H18,ES!$A$4:$E$12,5,FALSE)+IF($I18<>0,VLOOKUP($I18,ES!$A$4:$E$12,5,FALSE))+$J18 -> -1 | D18: *νe | E18: Charged Electron Neutrino | F18: not recognized | H18: 1 | I18: 1 | J18: -1 | K18: 2 | L18: =H18&": "&I18&": "&J18 -> 1: 1: -1 | N18: =MOD(M18,360) -> 0 | Q18: electrical charge is LV of captured photon; adds isotopic mass when captured by rotating systems (subatoms, atoms)
B19: - | C19: =VLOOKUP($H19,ES!$A$4:$E$12,5,FALSE)+IF($I19<>0,VLOOKUP($I19,ES!$A$4:$E$12,5,FALSE))+$J19 -> 0 | D19: no | E19: Compound Neutron | F19: n | G19: no = 2(νµ) | H19: 1 | I19: 1 | J19: 0 | K19: - | L19: =H19&": "&I19&": "&J19 -> 1: 1: 0 | N19: =MOD(M19,360) -> 0
B20: - | C20: =VLOOKUP($H20,ES!$A$4:$E$12,5,FALSE)+IF($I20<>0,VLOOKUP($I20,ES!$A$4:$E$12,5,FALSE))+$J20 -> 1 | D20: p2 | E20: Atomic Proton | F20: p | G20: p+ + p+ = p2 | H20: 1 | I20: 1 | J20: 1 | K20: - | L20: =H20&": "&I20&": "&J20 -> 1: 1: 1 | N20: =MOD(M20,360) -> 0
B21: - | C21: =VLOOKUP($H21,ES!$A$4:$E$12,5,FALSE)+IF($I21<>0,VLOOKUP($I21,ES!$A$4:$E$12,5,FALSE))+$J21 -> 1 | D21: *p+ | E21: Charged Atomic Proton | F21: not recognized | H21: 1 | I21: 1 | J21: 1 | K21: 2 | L21: =H21&": "&I21&": "&J21 -> 1: 1: 1 | N21: =MOD(M21,360) -> 0 | Q21: electrical charge is LV of captured photon
A22: DRB-4: Hydrogen Group ("s" shell) | B22: 1 | C22: =VLOOKUP($H22,ES!$A$4:$E$12,5,FALSE)+IF($I22<>0,VLOOKUP($I22,ES!$A$4:$E$12,5,FALSE))+$J22 -> -1 | D22: H1 | E22: Hydrogen | F22: p+e | G22: H = p+ + ve + e- | H22: -2 | I22: 1 | J22: -2 | K22: - | L22: =H22&": "&I22&": "&J22 -> -2: 1: -2 | N22: =MOD(M22,360) -> 0 | O22: 0 | P22: =2*N22 -> 0 | Q22: subatomic
B23: 2 | C23: =VLOOKUP($H23,ES!$A$4:$E$12,5,FALSE)+IF($I23<>0,VLOOKUP($I23,ES!$A$4:$E$12,5,FALSE))+$J23 -> 0 | D23: D+ | E23: Dueteron | F23: p+n | G23: 1-D RB | H23: -2 | I23: 1 | J23: -1 | K23: - | L23: =H23&": "&I23&": "&J23 -> -2: 1: -1 | N23: =MOD(M23,360) -> 0 | Q23: Nehru's Double Rotational Base, Larson's Rotational Base
B24: 1 | C24: =VLOOKUP($H24,ES!$A$4:$E$12,5,FALSE)+IF($I24<>0,VLOOKUP($I24,ES!$A$4:$E$12,5,FALSE))+$J24 -> 1 | D24: D, 2H | E24: Dueterium | F24: p+n+e | H24: -2 | I24: 1 | J24: 0 | K24: - | L24: =H24&": "&I24&": "&J24 -> -2: 1: 0 | N24: =MOD(M24,360) -> 0 | O24: 1 | P24: =2*N24 -> 0 | Q24: first isotope of Hydrogen (captures a charged electron neutrino to add mass)
B25: 2 | C25: =VLOOKUP($H25,ES!$A$4:$E$12,5,FALSE)+IF($I25<>0,VLOOKUP($I25,ES!$A$4:$E$12,5,FALSE))+$J25 -> 1 | D25: α2+ | E25: Alpha Particle | F25: 2p+2n | G25: 2-D RB | H25: -2 | I25: -2 | J25: -1 | K25: - | L25: =H25&": "&I25&": "&J25 -> -2: -2: -1 | N25: =MOD(M25,360) -> 0 | Q25: Double RB of atoms, Larson's Double Rotational Base
A26: Lower Atomic Group ("p" shell) | B26: 1 | C26: =VLOOKUP($H26,ES!$A$4:$E$12,5,FALSE)+IF($I26<>0,VLOOKUP($I26,ES!$A$4:$E$12,5,FALSE))+$J26 -> 2 | D26: He2 | E26: Helium | F26: 2p+2n+2e | H26: -2 | I26: -2 | J26: 0 | K26: - | L26: =H26&": "&I26&": "&J26 -> -2: -2: 0 | N26: =MOD(M26,360) -> 0 | O26: 2 | P26: =2*N26 -> 0 | Q26: first atomic structure; Noble gas (R1=R2; r3=0)
B27: 2 | C27: =VLOOKUP($H27,ES!$A$4:$E$12,5,FALSE)+IF($I27<>0,VLOOKUP($I27,ES!$A$4:$E$12,5,FALSE))+$J27 -> 3 | D27: Li3 | E27: Lithium | F27: 3p+4n+3e | H27: -2 | I27: -2 | J27: 1 | K27: - | L27: =H27&": "&I27&": "&J27 -> -2: -2: 1 | N27: =MOD(M27,360) -> 0
B28: 3 | C28: =VLOOKUP($H28,ES!$A$4:$E$12,5,FALSE)+IF($I28<>0,VLOOKUP($I28,ES!$A$4:$E$12,5,FALSE))+$J28 -> 4 | D28: Be4 | E28: Beryllium | F28: 4p+5n+4e | H28: -2 | I28: -2 | J28: 2 | K28: - | L28: =H28&": "&I28&": "&J28 -> -2: -2: 2 | N28: =MOD(M28,360) -> 0
B29: 4 | C29: =VLOOKUP($H29,ES!$A$4:$E$12,5,FALSE)+IF($I29<>0,VLOOKUP($I29,ES!$A$4:$E$12,5,FALSE))+$J29 -> 5 | D29: B5 | E29: Boron | F29: 5p+6n+5e | H29: -2 | I29: -2 | J29: 3 | K29: - | L29: =H29&": "&I29&": "&J29 -> -2: -2: 3 | N29: =MOD(M29,360) -> 0
B30: 5 | C30: =VLOOKUP($H30,ES!$A$4:$E$12,5,FALSE)+IF($I30<>0,VLOOKUP($I30,ES!$A$4:$E$12,5,FALSE))+$J30 -> 6 | D30: C6 | E30: Carbon | F30: 6p+6n+6e | H30: -2 | I30: -2 | J30: 4 | K30: - | L30: =H30&": "&I30&": "&J30 -> -2: -2: 4 | N30: =MOD(M30,360) -> 0 | Q30: Alternate = 2: -2: 0
C31: =VLOOKUP($H31,ES!$A$4:$E$12,5,FALSE)+IF($I31<>0,VLOOKUP($I31,ES!$A$4:$E$12,5,FALSE))+$J31 -> 6 | H31: 2 | I31: 2 | J31: -4 | L31: =H31&": "&I31&": "&J31 -> 2: 2: -4 | N31: =MOD(M31,360) -> 0
B32: 6 | C32: =VLOOKUP($H32,ES!$A$4:$E$12,5,FALSE)+IF($I32<>0,VLOOKUP($I32,ES!$A$4:$E$12,5,FALSE))+$J32 -> 7 | D32: N7 | E32: Nitrogen | F32: 7p+7n+7e | H32: 2 | I32: 2 | J32: -3 | K32: - | L32: =H32&": "&I32&": "&J32 -> 2: 2: -3 | N32: =MOD(M32,360) -> 0
B33: 7 | C33: =VLOOKUP($H33,ES!$A$4:$E$12,5,FALSE)+IF($I33<>0,VLOOKUP($I33,ES!$A$4:$E$12,5,FALSE))+$J33 -> 8 | D33: O8 | E33: Oxygen | F33: 8p+8n+8e | H33: 2 | I33: 2 | J33: -2 | K33: - | L33: =H33&": "&I33&": "&J33 -> 2: 2: -2 | N33: =MOD(M33,360) -> 0
B34: 8 | C34: =VLOOKUP($H34,ES!$A$4:$E$12,5,FALSE)+IF($I34<>0,VLOOKUP($I34,ES!$A$4:$E$12,5,FALSE))+$J34 -> 9 | D34: F9 | E34: Fluorine | F34: 9p+10n+9e | H34: 2 | I34: 2 | J34: -1 | K34: - | L34: =H34&": "&I34&": "&J34 -> 2: 2: -1 | N34: =MOD(M34,360) -> 0
B35: 1 | C35: =VLOOKUP($H35,ES!$A$4:$E$12,5,FALSE)+IF($I35<>0,VLOOKUP($I35,ES!$A$4:$E$12,5,FALSE))+$J35 -> 10 | D35: Ne10 | E35: Neon | F35: 10p+10n+10e | H35: 2 | I35: 2 | J35: 0 | K35: - | L35: =H35&": "&I35&": "&J35 -> 2: 2: 0 | N35: =MOD(M35,360) -> 0 | O35: 3 | P35: =2*N35 -> 0 | Q35: Noble gas (R1=R2; r3=0)
B36: 2 | C36: =VLOOKUP($H36,ES!$A$4:$E$12,5,FALSE)+IF($I36<>0,VLOOKUP($I36,ES!$A$4:$E$12,5,FALSE))+$J36 -> 11 | D36: Na11 | E36: Sodium | F36: 11p+12n+11e | H36: 2 | I36: 2 | J36: 1 | K36: - | L36: =H36&": "&I36&": "&J36 -> 2: 2: 1 | N36: =MOD(M36,360) -> 0
B37: 3 | C37: =VLOOKUP($H37,ES!$A$4:$E$12,5,FALSE)+IF($I37<>0,VLOOKUP($I37,ES!$A$4:$E$12,5,FALSE))+$J37 -> 12 | D37: Mg12 | E37: Magnesium | F37: 12p+12n+12e | H37: 2 | I37: 2 | J37: 2 | K37: - | L37: =H37&": "&I37&": "&J37 -> 2: 2: 2 | N37: =MOD(M37,360) -> 0
B38: 4 | C38: =VLOOKUP($H38,ES!$A$4:$E$12,5,FALSE)+IF($I38<>0,VLOOKUP($I38,ES!$A$4:$E$12,5,FALSE))+$J38 -> 13 | D38: Al13 | E38: Aluminum | F38: 13p+14n+13e | H38: 2 | I38: 2 | J38: 3 | K38: - | L38: =H38&": "&I38&": "&J38 -> 2: 2: 3 | N38: =MOD(M38,360) -> 0
B39: 5 | C39: =VLOOKUP($H39,ES!$A$4:$E$12,5,FALSE)+IF($I39<>0,VLOOKUP($I39,ES!$A$4:$E$12,5,FALSE))+$J39 -> 14 | D39: Si14 | E39: Silicon | F39: 14p+14n+14e | H39: 2 | I39: 2 | J39: 4 | K39: - | L39: =H39&": "&I39&": "&J39 -> 2: 2: 4 | N39: =MOD(M39,360) -> 0 | Q39: Alternate: -3: 2: 0
C40: =VLOOKUP($H40,ES!$A$4:$E$12,5,FALSE)+IF($I40<>0,VLOOKUP($I40,ES!$A$4:$E$12,5,FALSE))+$J40 -> 14 | H40: -3 | I40: -3 | J40: -4 | L40: =H40&": "&I40&": "&J40 -> -3: -3: -4 | N40: =MOD(M40,360) -> 0
B41: 6 | C41: =VLOOKUP($H41,ES!$A$4:$E$12,5,FALSE)+IF($I41<>0,VLOOKUP($I41,ES!$A$4:$E$12,5,FALSE))+$J41 -> 15 | D41: P15 | E41: Phosphorus | F41: 15p+16n+15e | H41: -3 | I41: -3 | J41: -3 | K41: - | L41: =H41&": "&I41&": "&J41 -> -3: -3: -3 | N41: =MOD(M41,360) -> 0
B42: 7 | C42: =VLOOKUP($H42,ES!$A$4:$E$12,5,FALSE)+IF($I42<>0,VLOOKUP($I42,ES!$A$4:$E$12,5,FALSE))+$J42 -> 16 | D42: S16 | E42: Sulfur | F42: 16p+16n+16e | H42: -3 | I42: -3 | J42: -2 | K42: - | L42: =H42&": "&I42&": "&J42 -> -3: -3: -2 | N42: =MOD(M42,360) -> 0
B43: 8 | C43: =VLOOKUP($H43,ES!$A$4:$E$12,5,FALSE)+IF($I43<>0,VLOOKUP($I43,ES!$A$4:$E$12,5,FALSE))+$J43 -> 17 | D43: Cl17 | E43: Chlorine | F43: 17p+18n+17e | H43: -3 | I43: -3 | J43: -1 | K43: - | L43: =H43&": "&I43&": "&J43 -> -3: -3: -1 | N43: =MOD(M43,360) -> 0
A44: Intermediate Atomic Group ("d" shell) | B44: 1 | C44: =VLOOKUP($H44,ES!$A$4:$E$12,5,FALSE)+IF($I44<>0,VLOOKUP($I44,ES!$A$4:$E$12,5,FALSE))+$J44 -> 18 | D44: Ar18 | E44: Argon | F44: 18p+22n+18e | H44: -3 | I44: -3 | J44: 0 | K44: - | L44: =H44&": "&I44&": "&J44 -> -3: -3: 0 | N44: =MOD(M44,360) -> 0 | O44: 4 | P44: =2*N44 -> 0 | Q44: Noble gas (R1=R2; r3=0)
B45: 2 | C45: =VLOOKUP($H45,ES!$A$4:$E$12,5,FALSE)+IF($I45<>0,VLOOKUP($I45,ES!$A$4:$E$12,5,FALSE))+$J45 -> 19 | D45: K19 | E45: Potassium | F45: 19p+20n+19e | H45: -3 | I45: -3 | J45: 1 | K45: - | L45: =H45&": "&I45&": "&J45 -> -3: -3: 1 | N45: =MOD(M45,360) -> 0
B46: 3 | C46: =VLOOKUP($H46,ES!$A$4:$E$12,5,FALSE)+IF($I46<>0,VLOOKUP($I46,ES!$A$4:$E$12,5,FALSE))+$J46 -> 20 | D46: Ca20 | E46: Calcium | F46: 20p+20n+20e | H46: -3 | I46: -3 | J46: 2 | K46: - | L46: =H46&": "&I46&": "&J46 -> -3: -3: 2 | N46: =MOD(M46,360) -> 0
B47: 4 | C47: =VLOOKUP($H47,ES!$A$4:$E$12,5,FALSE)+IF($I47<>0,VLOOKUP($I47,ES!$A$4:$E$12,5,FALSE))+$J47 -> 21 | D47: Sc21 | E47: Scandium | F47: 21p+24n+21e | H47: -3 | I47: -3 | J47: 3 | K47: - | L47: =H47&": "&I47&": "&J47 -> -3: -3: 3 | N47: =MOD(M47,360) -> 0
B48: 5 | C48: =VLOOKUP($H48,ES!$A$4:$E$12,5,FALSE)+IF($I48<>0,VLOOKUP($I48,ES!$A$4:$E$12,5,FALSE))+$J48 -> 22 | D48: Ti22 | E48: Titanium | F48: 22p+26n+22e | H48: -3 | I48: -3 | J48: 4 | K48: - | L48: =H48&": "&I48&": "&J48 -> -3: -3: 4 | N48: =MOD(M48,360) -> 0
B49: 6 | C49: =VLOOKUP($H49,ES!$A$4:$E$12,5,FALSE)+IF($I49<>0,VLOOKUP($I49,ES!$A$4:$E$12,5,FALSE))+$J49 -> 23 | D49: V23 | E49: Vanadium | F49: 23p+28n+23e | H49: -3 | I49: -3 | J49: 5 | K49: - | L49: =H49&": "&I49&": "&J49 -> -3: -3: 5 | N49: =MOD(M49,360) -> 0
B50: 7 | C50: =VLOOKUP($H50,ES!$A$4:$E$12,5,FALSE)+IF($I50<>0,VLOOKUP($I50,ES!$A$4:$E$12,5,FALSE))+$J50 -> 24 | D50: Cr24 | E50: Chromium | F50: 24p+28n+24e | H50: -3 | I50: -3 | J50: 6 | K50: - | L50: =H50&": "&I50&": "&J50 -> -3: -3: 6 | N50: =MOD(M50,360) -> 0
B51: 8 | C51: =VLOOKUP($H51,ES!$A$4:$E$12,5,FALSE)+IF($I51<>0,VLOOKUP($I51,ES!$A$4:$E$12,5,FALSE))+$J51 -> 25 | D51: Mn25 | E51: Manganese | F51: 25p+30n+25e | H51: -3 | I51: -3 | J51: 7 | K51: - | L51: =H51&": "&I51&": "&J51 -> -3: -3: 7 | N51: =MOD(M51,360) -> 0
B52: 9 | C52: =VLOOKUP($H52,ES!$A$4:$E$12,5,FALSE)+IF($I52<>0,VLOOKUP($I52,ES!$A$4:$E$12,5,FALSE))+$J52 -> 26 | D52: Fe26 | E52: Iron | F52: 26p+30n+26e | H52: -3 | I52: -3 | J52: 8 | K52: - | L52: =H52&": "&I52&": "&J52 -> -3: -3: 8 | N52: =MOD(M52,360) -> 0
B53: 10 | C53: =VLOOKUP($H53,ES!$A$4:$E$12,5,FALSE)+IF($I53<>0,VLOOKUP($I53,ES!$A$4:$E$12,5,FALSE))+$J53 -> 27 | D53: Co27 | E53: Cobalt | F53: 27p+32n+27e | H53: -3 | I53: -3 | J53: 9 | K53: - | L53: =H53&": "&I53&": "&J53 -> -3: -3: 9 | N53: =MOD(M53,360) -> 0 | Q53: Alternate = 3: -3: 0
C54: =VLOOKUP($H54,ES!$A$4:$E$12,5,FALSE)+IF($I54<>0,VLOOKUP($I54,ES!$A$4:$E$12,5,FALSE))+$J54 -> 27 | H54: 3 | I54: 3 | J54: -9 | L54: =H54&": "&I54&": "&J54 -> 3: 3: -9 | N54: =MOD(M54,360) -> 0
B55: 11 | C55: =VLOOKUP($H55,ES!$A$4:$E$12,5,FALSE)+IF($I55<>0,VLOOKUP($I55,ES!$A$4:$E$12,5,FALSE))+$J55 -> 28 | D55: Ni28 | E55: Nickel | F55: 28p+31n+28e | H55: 3 | I55: 3 | J55: -8 | K55: - | L55: =H55&": "&I55&": "&J55 -> 3: 3: -8 | N55: =MOD(M55,360) -> 0
B56: 12 | C56: =VLOOKUP($H56,ES!$A$4:$E$12,5,FALSE)+IF($I56<>0,VLOOKUP($I56,ES!$A$4:$E$12,5,FALSE))+$J56 -> 29 | D56: Cu29 | E56: Copper | F56: 29p+35n+29e | H56: 3 | I56: 3 | J56: -7 | K56: - | L56: =H56&": "&I56&": "&J56 -> 3: 3: -7 | N56: =MOD(M56,360) -> 0
B57: 13 | C57: =VLOOKUP($H57,ES!$A$4:$E$12,5,FALSE)+IF($I57<>0,VLOOKUP($I57,ES!$A$4:$E$12,5,FALSE))+$J57 -> 30 | D57: Zn30 | E57: Zinc | F57: 30p+35n+30e | H57: 3 | I57: 3 | J57: -6 | K57: - | L57: =H57&": "&I57&": "&J57 -> 3: 3: -6 | N57: =MOD(M57,360) -> 0
B58: 14 | C58: =VLOOKUP($H58,ES!$A$4:$E$12,5,FALSE)+IF($I58<>0,VLOOKUP($I58,ES!$A$4:$E$12,5,FALSE))+$J58 -> 31 | D58: Ga31 | E58: Gallium | F58: 31p+39n+31e | H58: 3 | I58: 3 | J58: -5 | K58: - | L58: =H58&": "&I58&": "&J58 -> 3: 3: -5 | N58: =MOD(M58,360) -> 0
B59: 15 | C59: =VLOOKUP($H59,ES!$A$4:$E$12,5,FALSE)+IF($I59<>0,VLOOKUP($I59,ES!$A$4:$E$12,5,FALSE))+$J59 -> 32 | D59: Ge32 | E59: Germanium | F59: 32p+41n+32e | H59: 3 | I59: 3 | J59: -4 | K59: - | L59: =H59&": "&I59&": "&J59 -> 3: 3: -4 | N59: =MOD(M59,360) -> 0
B60: 16 | C60: =VLOOKUP($H60,ES!$A$4:$E$12,5,FALSE)+IF($I60<>0,VLOOKUP($I60,ES!$A$4:$E$12,5,FALSE))+$J60 -> 33 | D60: As33 | E60: Arsenic | F60: 33p+42n+33e | H60: 3 | I60: 3 | J60: -3 | K60: - | L60: =H60&": "&I60&": "&J60 -> 3: 3: -3 | N60: =MOD(M60,360) -> 0
B61: 17 | C61: =VLOOKUP($H61,ES!$A$4:$E$12,5,FALSE)+IF($I61<>0,VLOOKUP($I61,ES!$A$4:$E$12,5,FALSE))+$J61 -> 34 | D61: Se34 | E61: Selemium | F61: 34p+45n+34e | H61: 3 | I61: 3 | J61: -2 | K61: - | L61: =H61&": "&I61&": "&J61 -> 3: 3: -2 | N61: =MOD(M61,360) -> 0
B62: 18 | C62: =VLOOKUP($H62,ES!$A$4:$E$12,5,FALSE)+IF($I62<>0,VLOOKUP($I62,ES!$A$4:$E$12,5,FALSE))+$J62 -> 35 | D62: Br35 | E62: Bromine | F62: 35p+44n+35e | H62: 3 | I62: 3 | J62: -1 | K62: - | L62: =H62&": "&I62&": "&J62 -> 3: 3: -1 | N62: =MOD(M62,360) -> 0
B63: 1 | C63: =VLOOKUP($H63,ES!$A$4:$E$12,5,FALSE)+IF($I63<>0,VLOOKUP($I63,ES!$A$4:$E$12,5,FALSE))+$J63 -> 36 | D63: Kr36 | E63: Krypton | F63: 36p+48n+36e | H63: 3 | I63: 3 | J63: 0 | K63: - | L63: =H63&": "&I63&": "&J63 -> 3: 3: 0 | N63: =MOD(M63,360) -> 0 | O63: 5 | P63: =2*N63 -> 0 | Q63: Noble gas (R1=R2; r3=0)
B64: 2 | C64: =VLOOKUP($H64,ES!$A$4:$E$12,5,FALSE)+IF($I64<>0,VLOOKUP($I64,ES!$A$4:$E$12,5,FALSE))+$J64 -> 37 | D64: Rb37 | E64: Rubidium | F64: 37p+48n+37e | H64: 3 | I64: 3 | J64: 1 | K64: - | L64: =H64&": "&I64&": "&J64 -> 3: 3: 1 | N64: =MOD(M64,360) -> 0
B65: 3 | C65: =VLOOKUP($H65,ES!$A$4:$E$12,5,FALSE)+IF($I65<>0,VLOOKUP($I65,ES!$A$4:$E$12,5,FALSE))+$J65 -> 38 | D65: Sr38 | E65: Strondium | F65: 38p+50n+38e | H65: 3 | I65: 3 | J65: 2 | K65: - | L65: =H65&": "&I65&": "&J65 -> 3: 3: 2 | N65: =MOD(M65,360) -> 0
B66: 4 | C66: =VLOOKUP($H66,ES!$A$4:$E$12,5,FALSE)+IF($I66<>0,VLOOKUP($I66,ES!$A$4:$E$12,5,FALSE))+$J66 -> 39 | D66: Y39 | E66: Yitrium | F66: 39p+50n+39e | H66: 3 | I66: 3 | J66: 3 | K66: - | L66: =H66&": "&I66&": "&J66 -> 3: 3: 3 | N66: =MOD(M66,360) -> 0
B67: 5 | C67: =VLOOKUP($H67,ES!$A$4:$E$12,5,FALSE)+IF($I67<>0,VLOOKUP($I67,ES!$A$4:$E$12,5,FALSE))+$J67 -> 40 | D67: Zr40 | E67: Zirconium | F67: 40p+52n+40e | H67: 3 | I67: 3 | J67: 4 | K67: - | L67: =H67&": "&I67&": "&J67 -> 3: 3: 4 | N67: =MOD(M67,360) -> 0
B68: 6 | C68: =VLOOKUP($H68,ES!$A$4:$E$12,5,FALSE)+IF($I68<>0,VLOOKUP($I68,ES!$A$4:$E$12,5,FALSE))+$J68 -> 41 | D68: Nb41 | E68: Niobium | F68: 41p+52n+41e | H68: 3 | I68: 3 | J68: 5 | K68: - | L68: =H68&": "&I68&": "&J68 -> 3: 3: 5 | N68: =MOD(M68,360) -> 0
B69: 7 | C69: =VLOOKUP($H69,ES!$A$4:$E$12,5,FALSE)+IF($I69<>0,VLOOKUP($I69,ES!$A$4:$E$12,5,FALSE))+$J69 -> 42 | D69: Mo42 | E69: Molybdenum | F69: 42p+54n+42e | H69: 3 | I69: 3 | J69: 6 | K69: - | L69: =H69&": "&I69&": "&J69 -> 3: 3: 6 | N69: =MOD(M69,360) -> 0
B70: 8 | C70: =VLOOKUP($H70,ES!$A$4:$E$12,5,FALSE)+IF($I70<>0,VLOOKUP($I70,ES!$A$4:$E$12,5,FALSE))+$J70 -> 43 | D70: Tc43 | E70: Technetium | F70: 43p+55n+43e | H70: 3 | I70: 3 | J70: 7 | K70: - | L70: =H70&": "&I70&": "&J70 -> 3: 3: 7 | N70: =MOD(M70,360) -> 0
B71: 9 | C71: =VLOOKUP($H71,ES!$A$4:$E$12,5,FALSE)+IF($I71<>0,VLOOKUP($I71,ES!$A$4:$E$12,5,FALSE))+$J71 -> 44 | D71: Ru44 | E71: Ruthenium | F71: 44p+57n+44e | H71: 3 | I71: 3 | J71: 8 | K71: - | L71: =H71&": "&I71&": "&J71 -> 3: 3: 8 | N71: =MOD(M71,360) -> 0
B72: 10 | C72: =VLOOKUP($H72,ES!$A$4:$E$12,5,FALSE)+IF($I72<>0,VLOOKUP($I72,ES!$A$4:$E$12,5,FALSE))+$J72 -> 45 | D72: Rh45 | E72: Rhodium | F72: 45p+58n+45e | H72: 3 | I72: 3 | J72: 9 | K72: - | L72: =H72&": "&I72&": "&J72 -> 3: 3: 9 | N72: =MOD(M72,360) -> 0 | Q72: Alternate: -4: 3: 0
C73: =VLOOKUP($H73,ES!$A$4:$E$12,5,FALSE)+IF($I73<>0,VLOOKUP($I73,ES!$A$4:$E$12,5,FALSE))+$J73 -> 45 | H73: -4 | I73: -4 | J73: -9 | L73: =H73&": "&I73&": "&J73 -> -4: -4: -9 | N73: =MOD(M73,360) -> 0
B74: 11 | C74: =VLOOKUP($H74,ES!$A$4:$E$12,5,FALSE)+IF($I74<>0,VLOOKUP($I74,ES!$A$4:$E$12,5,FALSE))+$J74 -> 46 | D74: Pd46 | E74: Palladium | F74: 46p+60n+46e | H74: -4 | I74: -4 | J74: -8 | K74: - | L74: =H74&": "&I74&": "&J74 -> -4: -4: -8 | N74: =MOD(M74,360) -> 0
B75: 12 | C75: =VLOOKUP($H75,ES!$A$4:$E$12,5,FALSE)+IF($I75<>0,VLOOKUP($I75,ES!$A$4:$E$12,5,FALSE))+$J75 -> 47 | D75: Ag47 | E75: Silver | F75: 47p+61n+47e | H75: -4 | I75: -4 | J75: -7 | K75: - | L75: =H75&": "&I75&": "&J75 -> -4: -4: -7 | N75: =MOD(M75,360) -> 0
B76: 13 | C76: =VLOOKUP($H76,ES!$A$4:$E$12,5,FALSE)+IF($I76<>0,VLOOKUP($I76,ES!$A$4:$E$12,5,FALSE))+$J76 -> 48 | D76: Cd48 | E76: Cadmium | F76: 48p+64n+48e | H76: -4 | I76: -4 | J76: -6 | K76: - | L76: =H76&": "&I76&": "&J76 -> -4: -4: -6 | N76: =MOD(M76,360) -> 0
B77: 14 | C77: =VLOOKUP($H77,ES!$A$4:$E$12,5,FALSE)+IF($I77<>0,VLOOKUP($I77,ES!$A$4:$E$12,5,FALSE))+$J77 -> 49 | D77: In49 | E77: Indium | F77: 49p+66n+49e | H77: -4 | I77: -4 | J77: -5 | K77: - | L77: =H77&": "&I77&": "&J77 -> -4: -4: -5 | N77: =MOD(M77,360) -> 0
B78: 15 | C78: =VLOOKUP($H78,ES!$A$4:$E$12,5,FALSE)+IF($I78<>0,VLOOKUP($I78,ES!$A$4:$E$12,5,FALSE))+$J78 -> 50 | D78: Sn50 | E78: Tin | F78: 50p+69n+50e | H78: -4 | I78: -4 | J78: -4 | K78: - | L78: =H78&": "&I78&": "&J78 -> -4: -4: -4 | N78: =MOD(M78,360) -> 0
B79: 16 | C79: =VLOOKUP($H79,ES!$A$4:$E$12,5,FALSE)+IF($I79<>0,VLOOKUP($I79,ES!$A$4:$E$12,5,FALSE))+$J79 -> 51 | D79: Sb51 | E79: Antimony | F79: 51p+71n+51e | H79: -4 | I79: -4 | J79: -3 | K79: - | L79: =H79&": "&I79&": "&J79 -> -4: -4: -3 | N79: =MOD(M79,360) -> 0
B80: 17 | C80: =VLOOKUP($H80,ES!$A$4:$E$12,5,FALSE)+IF($I80<>0,VLOOKUP($I80,ES!$A$4:$E$12,5,FALSE))+$J80 -> 52 | D80: Te52 | E80: Tellurium | F80: 52p+76n+52e | H80: -4 | I80: -4 | J80: -2 | K80: - | L80: =H80&": "&I80&": "&J80 -> -4: -4: -2 | N80: =MOD(M80,360) -> 0
B81: 18 | C81: =VLOOKUP($H81,ES!$A$4:$E$12,5,FALSE)+IF($I81<>0,VLOOKUP($I81,ES!$A$4:$E$12,5,FALSE))+$J81 -> 53 | D81: I53 | E81: Iodine | F81: 53p+74n+53e | H81: -4 | I81: -4 | J81: -1 | K81: - | L81: =H81&": "&I81&": "&J81 -> -4: -4: -1 | N81: =MOD(M81,360) -> 0
A82: Upper Atomic Group ("f" shell) | B82: 1 | C82: =VLOOKUP($H82,ES!$A$4:$E$12,5,FALSE)+IF($I82<>0,VLOOKUP($I82,ES!$A$4:$E$12,5,FALSE))+$J82 -> 54 | D82: Xe54 | E82: Xenon | F82: 54p+77n+54e | H82: -4 | I82: -4 | J82: 0 | K82: - | L82: =H82&": "&I82&": "&J82 -> -4: -4: 0 | N82: =MOD(M82,360) -> 0 | O82: 6 | P82: =2*N82 -> 0 | Q82: Noble gas (R1=R2; r3=0)
B83: 2 | C83: =VLOOKUP($H83,ES!$A$4:$E$12,5,FALSE)+IF($I83<>0,VLOOKUP($I83,ES!$A$4:$E$12,5,FALSE))+$J83 -> 55 | D83: Cs55 | E83: Cesium | F83: 55p+78n+55e | H83: -4 | I83: -4 | J83: 1 | K83: - | L83: =H83&": "&I83&": "&J83 -> -4: -4: 1 | N83: =MOD(M83,360) -> 0
B84: 3 | C84: =VLOOKUP($H84,ES!$A$4:$E$12,5,FALSE)+IF($I84<>0,VLOOKUP($I84,ES!$A$4:$E$12,5,FALSE))+$J84 -> 56 | D84: Ba56 | E84: Barium | F84: 56p+81n+56e | H84: -4 | I84: -4 | J84: 2 | K84: - | L84: =H84&": "&I84&": "&J84 -> -4: -4: 2 | N84: =MOD(M84,360) -> 0
B85: 4 | C85: =VLOOKUP($H85,ES!$A$4:$E$12,5,FALSE)+IF($I85<>0,VLOOKUP($I85,ES!$A$4:$E$12,5,FALSE))+$J85 -> 57 | D85: La57 | E85: Lanthanum | F85: 57p+82n+57e | H85: -4 | I85: -4 | J85: 3 | K85: - | L85: =H85&": "&I85&": "&J85 -> -4: -4: 3 | N85: =MOD(M85,360) -> 0
B86: 5 | C86: =VLOOKUP($H86,ES!$A$4:$E$12,5,FALSE)+IF($I86<>0,VLOOKUP($I86,ES!$A$4:$E$12,5,FALSE))+$J86 -> 58 | D86: Ce58 | E86: Cerium | F86: 58p+82n+58e | H86: -4 | I86: -4 | J86: 4 | K86: - | L86: =H86&": "&I86&": "&J86 -> -4: -4: 4 | N86: =MOD(M86,360) -> 0
B87: 6 | C87: =VLOOKUP($H87,ES!$A$4:$E$12,5,FALSE)+IF($I87<>0,VLOOKUP($I87,ES!$A$4:$E$12,5,FALSE))+$J87 -> 59 | D87: Pr59 | E87: Praseodymium | F87: 59p+82n+59e | H87: -4 | I87: -4 | J87: 5 | K87: - | L87: =H87&": "&I87&": "&J87 -> -4: -4: 5 | N87: =MOD(M87,360) -> 0
B88: 7 | C88: =VLOOKUP($H88,ES!$A$4:$E$12,5,FALSE)+IF($I88<>0,VLOOKUP($I88,ES!$A$4:$E$12,5,FALSE))+$J88 -> 60 | D88: Nd60 | E88: Neodymium | F88: 60p+84n+60e | H88: -4 | I88: -4 | J88: 6 | K88: - | L88: =H88&": "&I88&": "&J88 -> -4: -4: 6 | N88: =MOD(M88,360) -> 0
B89: 8 | C89: =VLOOKUP($H89,ES!$A$4:$E$12,5,FALSE)+IF($I89<>0,VLOOKUP($I89,ES!$A$4:$E$12,5,FALSE))+$J89 -> 61 | D89: Pm61 | E89: Prometheium | F89: 61p+84n+61e | H89: -4 | I89: -4 | J89: 7 | K89: - | L89: =H89&": "&I89&": "&J89 -> -4: -4: 7 | N89: =MOD(M89,360) -> 0
B90: 9 | C90: =VLOOKUP($H90,ES!$A$4:$E$12,5,FALSE)+IF($I90<>0,VLOOKUP($I90,ES!$A$4:$E$12,5,FALSE))+$J90 -> 62 | D90: Sm62 | E90: Samarium | F90: 62p+88n+62e | H90: -4 | I90: -4 | J90: 8 | K90: - | L90: =H90&": "&I90&": "&J90 -> -4: -4: 8 | N90: =MOD(M90,360) -> 0
B91: 10 | C91: =VLOOKUP($H91,ES!$A$4:$E$12,5,FALSE)+IF($I91<>0,VLOOKUP($I91,ES!$A$4:$E$12,5,FALSE))+$J91 -> 63 | D91: Eu63 | E91: Europium | F91: 63p+89n+63e | H91: -4 | I91: -4 | J91: 9 | K91: - | L91: =H91&": "&I91&": "&J91 -> -4: -4: 9 | N91: =MOD(M91,360) -> 0
B92: 11 | C92: =VLOOKUP($H92,ES!$A$4:$E$12,5,FALSE)+IF($I92<>0,VLOOKUP($I92,ES!$A$4:$E$12,5,FALSE))+$J92 -> 64 | D92: Gd64 | E92: Gadolinium | F92: 64p+93n+64e | H92: -4 | I92: -4 | J92: 10 | K92: - | L92: =H92&": "&I92&": "&J92 -> -4: -4: 10 | N92: =MOD(M92,360) -> 0
B93: 12 | C93: =VLOOKUP($H93,ES!$A$4:$E$12,5,FALSE)+IF($I93<>0,VLOOKUP($I93,ES!$A$4:$E$12,5,FALSE))+$J93 -> 65 | D93: Tb65 | E93: Terbium | F93: 65p+94n+65e | H93: -4 | I93: -4 | J93: 11 | K93: - | L93: =H93&": "&I93&": "&J93 -> -4: -4: 11 | N93: =MOD(M93,360) -> 0
B94: 13 | C94: =VLOOKUP($H94,ES!$A$4:$E$12,5,FALSE)+IF($I94<>0,VLOOKUP($I94,ES!$A$4:$E$12,5,FALSE))+$J94 -> 66 | D94: Dy66 | E94: Dysprosium | F94: 66p+97n+66e | H94: -4 | I94: -4 | J94: 12 | K94: - | L94: =H94&": "&I94&": "&J94 -> -4: -4: 12 | N94: =MOD(M94,360) -> 0
B95: 14 | C95: =VLOOKUP($H95,ES!$A$4:$E$12,5,FALSE)+IF($I95<>0,VLOOKUP($I95,ES!$A$4:$E$12,5,FALSE))+$J95 -> 67 | D95: Ho67 | E95: Holmium | F95: 67p+98n+67e | H95: -4 | I95: -4 | J95: 13 | K95: - | L95: =H95&": "&I95&": "&J95 -> -4: -4: 13 | N95: =MOD(M95,360) -> 0
B96: 15 | C96: =VLOOKUP($H96,ES!$A$4:$E$12,5,FALSE)+IF($I96<>0,VLOOKUP($I96,ES!$A$4:$E$12,5,FALSE))+$J96 -> 68 | D96: Er68 | E96: Erbium | F96: 68p+99n+68e | H96: -4 | I96: -4 | J96: 14 | K96: - | L96: =H96&": "&I96&": "&J96 -> -4: -4: 14 | N96: =MOD(M96,360) -> 0
B97: 16 | C97: =VLOOKUP($H97,ES!$A$4:$E$12,5,FALSE)+IF($I97<>0,VLOOKUP($I97,ES!$A$4:$E$12,5,FALSE))+$J97 -> 69 | D97: Tm69 | E97: Thulium | F97: 69p+100n+69e | H97: -4 | I97: -4 | J97: 15 | K97: - | L97: =H97&": "&I97&": "&J97 -> -4: -4: 15 | N97: =MOD(M97,360) -> 0
B98: 17 | C98: =VLOOKUP($H98,ES!$A$4:$E$12,5,FALSE)+IF($I98<>0,VLOOKUP($I98,ES!$A$4:$E$12,5,FALSE))+$J98 -> 70 | D98: Yb70 | E98: Ytterbium | F98: 70p+103n+70e | H98: -4 | I98: -4 | J98: 16 | K98: - | L98: =H98&": "&I98&": "&J98 -> -4: -4: 16 | N98: =MOD(M98,360) -> 0 | Q98: Alternate: 4: -4: 0
C99: =VLOOKUP($H99,ES!$A$4:$E$12,5,FALSE)+IF($I99<>0,VLOOKUP($I99,ES!$A$4:$E$12,5,FALSE))+$J99 -> 70 | H99: 4 | I99: 4 | J99: -16 | L99: =H99&": "&I99&": "&J99 -> 4: 4: -16 | N99: =MOD(M99,360) -> 0
B100: 18 | C100: =VLOOKUP($H100,ES!$A$4:$E$12,5,FALSE)+IF($I100<>0,VLOOKUP($I100,ES!$A$4:$E$12,5,FALSE))+$J100 -> 71 | D100: Lu71 | E100: Lutetium | F100: 71p+104n+71e | H100: 4 | I100: 4 | J100: -15 | K100: - | L100: =H100&": "&I100&": "&J100 -> 4: 4: -15 | N100: =MOD(M100,360) -> 0
...

Sheet Atoms-ARCHIVE
C1: Table 2: Atoms (double, double-rotating systems)
B2: TR Speed Range | C2: Atom # | E2: Symbol | F2: Particle / Element | G2: Conventional | H2: RS/RS2 | I2: Notational Systems | Q2: Dimensions (Atomic) | U2: net4 | V2: Z-c | W2: Time Region | X2: Time-Space Region
C3: count | D3: Z | I3: Speed | J3: Displacement | K3: Subatomic | M3: Atomic | O3: Chemical5 | Q3: A | R3: B | S3: C | T3: Scalar Units | U3: Δt | W3: Turn | X3: Shear Angle (°) | Y3: Rotational Depth | Z3: i?
A4: Hydrogen Group | B4: =MAX(TRUNC((W4+180)/360)-2,1) -> 1 | C4: 1 | D4: =U4-2 -> -2 | E4: no | F4: Neutron | G4: n | H4: no = 2(νµ) | I4: 3-2-1 | J4: 2-1-0 | K4: 1-1-0 | M4: 1-0-0 | N4: ½-½-0 | O4: 0-0-0 | Q4: 1 | R4: 0 | S4: 0 | T4: =SUM(Q4:R4)-2 -> -1 | U4: =(Q4*(Q4-1)*(2*Q4-1)+R4*(R4+1)*(2*R4+1))/3+S4 -> 0 | V4: =D4-S4 -> -2 | W4: ='Particles-ARCHIVE'!M26+90/1 -> 900 | X4: =MOD(W4,360) -> 180 | Y4: 0 | Z4: 0
B5: =MAX(TRUNC((W5+180)/360)-2,1) -> 1 | C5: 2 | D5: =U5-2 -> -1 | E5: p2 | F5: Atomic Proton6 | G5: p | H5: p+ + p+ = p2 | I5: 3-2-2 | J5: 2-1-1 | K5: 1-1-1 | M5: 1-0-1 | N5: ½-½-1 | O5: 0-0-1 | Q5: 1 | R5: 0 | S5: 1 | T5: =SUM(Q5:R5)-2 -> -1 | U5: =(Q5*(Q5-1)*(2*Q5-1)+R5*(R5+1)*(2*R5+1))/3+S5 -> 1 | V5: =D5-S5 -> -2 | W5: =W4+90/1 -> 990 | X5: =MOD(W5,360) -> 270
B6: =MAX(TRUNC((W6+180)/360)-2,1) -> 1 | J6: 2-2-(1) | K6: 2-1-(1) | L6: 1½-1½-(1) | M6: 1-1-(1) | O6: 1-0-(1) | P6: ½-½-(1) | Q6: 1 | R6: 1 | S6: -1 | T6: =SUM(Q6:R6)-2 -> 0 | U6: =(Q6*(Q6-1)*(2*Q6-1)+R6*(R6+1)*(2*R6+1))/3+S6 -> 1 | V6: =D6-S6 -> 1 | X6: =MOD(W6,360) -> 0
B7: =MAX(TRUNC((W7+180)/360)-2,1) -> 1 | C7: 1 | D7: =U7-2 -> 0 | E7: D+ | F7: Dueteron | G7: p+n | H7: 2-D RB | I7: 3-3-1 | J7: 2-2-0 | K7: 2-1-0 | L7: 1½-1½-0 | M7: 1-1-0 | O7: 1-0-0 | P7: ½-½-0 | Q7: 1 | R7: 1 | S7: 0 | T7: =SUM(Q7:R7)-2 -> 0 | U7: =(Q7*(Q7-1)*(2*Q7-1)+R7*(R7+1)*(2*R7+1))/3+S7 -> 2 | V7: =D7-S7 -> 0 | W7: =W5+90/1 -> 1080 | X7: =MOD(W7,360) -> 0 | Y7: 1 | Z7: 2
B8: =MAX(TRUNC((W8+180)/360)-2,1) -> 1 | C8: 2 | D8: =U8-2 -> 1 | E8: D | F8: Dueterium7 (confused for Hydrogen) | G8: p+n+e | H8: D = H+ + νe* | I8: 3-3-2 | J8: 2-2-1 | K8: 2-1-1 | L8: 1½-1½-1 | M8: 1-1-1 | O8: 1-0-1 | P8: ½-½-1 | Q8: 1 | R8: 1 | S8: 1 | T8: =SUM(Q8:R8)-2 -> 0 | U8: =(Q8*(Q8-1)*(2*Q8-1)+R8*(R8+1)*(2*R8+1))/3+S8 -> 3 | V8: =D8-S8 -> 0 | W8: =W7+90/1 -> 1170 | X8: =MOD(W8,360) -> 90
B9: =MAX(TRUNC((W9+180)/360)-2,1) -> 1 | J9: 3-2-(1) | K9: 2-2-(1) | M9: 2-1-(1) | O9: 1-1-(1) | Q9: 2 | R9: 1 | S9: -1 | T9: =SUM(Q9:R9)-2 -> 1 | U9: =(Q9*(Q9-1)*(2*Q9-1)+R9*(R9+1)*(2*R9+1))/3+S9 -> 3 | V9: =D9-S9 -> 1 | W9: =W7+90 -> 1170 | X9: =MOD(W9,360) -> 90
A10: Lower Atomic Group | B10: =MAX(TRUNC((W10+180)/360)-2,1) -> 2 | C10: 1 | D10: =U10-2 -> 2 | E10: He | F10: Helium | G10: 2p+2n+2e | I10: 4-3-1 | J10: 3-2-0 | K10: 2-2-0 | M10: 2-1-0 | O10: 1-1-0 | Q10: 2 | R10: 1 | S10: 0 | T10: =SUM(Q10:R10)-2 -> 1 | U10: =(Q10*(Q10-1)*(2*Q10-1)+R10*(R10+1)*(2*R10+1))/3+S10 -> 4 | V10: =D10-S10 -> 2 | W10: =W8+90/1 -> 1260 | X10: =MOD(W10,360) -> 180 | Y10: 2 | Z10: 4
B11: =MAX(TRUNC((W11+180)/360)-2,1) -> 2 | C11: 2 | D11: =U11-2 -> 3 | E11: Li | F11: Lithium | G11: 3p+4n+3e | I11: 4-3-2 | J11: 3-2-1 | K11: 2-2-1 | M11: 2-1-1 | O11: 1-1-1 | Q11: 2 | R11: 1 | S11: 1 | T11: =SUM(Q11:R11)-2 -> 1 | U11: =(Q11*(Q11-1)*(2*Q11-1)+R11*(R11+1)*(2*R11+1))/3+S11 -> 5 | V11: =D11-S11 -> 2 | W11: =W10+90/4 -> 1282.5 | X11: =MOD(W11,360) -> 202.5
B12: =MAX(TRUNC((W12+180)/360)-2,1) -> 2 | C12: 3 | D12: =U12-2 -> 4 | E12: Be | F12: Beryllium | G12: 4p+5n+4e | I12: 4-3-3 | J12: 3-2-2 | K12: 2-2-2 | M12: 2-1-2 | O12: 1-1-2 | Q12: 2 | R12: 1 | S12: 2 | T12: =SUM(Q12:R12)-2 -> 1 | U12: =(Q12*(Q12-1)*(2*Q12-1)+R12*(R12+1)*(2*R12+1))/3+S12 -> 6 | V12: =D12-S12 -> 2 | W12: =W11+90/4 -> 1305 | X12: =MOD(W12,360) -> 225
B13: =MAX(TRUNC((W13+180)/360)-2,1) -> 2 | C13: 4 | D13: =U13-2 -> 5 | E13: B | F13: Boron | G13: 5p+6n+5e | I13: 4-3-4 | J13: 3-2-3 | K13: 2-2-3 | M13: 2-1-3 | O13: 1-1-3 | Q13: 2 | R13: 1 | S13: 3 | T13: =SUM(Q13:R13)-2 -> 1 | U13: =(Q13*(Q13-1)*(2*Q13-1)+R13*(R13+1)*(2*R13+1))/3+S13 -> 7 | V13: =D13-S13 -> 2 | W13: =W12+90/4 -> 1327.5 | X13: =MOD(W13,360) -> 247.5
B14: =MAX(TRUNC((W14+180)/360)-2,1) -> 2 | C14: 5 | D14: =U14-2 -> 6 | E14: C | F14: Carbon | G14: 6p+6n+6e | I14: 4-3-5 | J14: 3-2-4 | K14: 2-2-4 | M14: 2-1-4 | O14: 1-1-4 | Q14: 2 | R14: 1 | S14: 4 | T14: =SUM(Q14:R14)-2 -> 1 | U14: =(Q14*(Q14-1)*(2*Q14-1)+R14*(R14+1)*(2*R14+1))/3+S14 -> 8 | V14: =D14-S14 -> 2 | W14: =W13+90/4 -> 1350 | X14: =MOD(W14,360) -> 270
B15: =MAX(TRUNC((W15+180)/360)-2,1) -> 2 | J15: 3-3-(4) | K15: 3-2-(4) | M15: 2-2-(4) | O15: 2-1-(4) | Q15: 2 | R15: 2 | S15: -4 | T15: =SUM(Q15:R15)-2 -> 2 | U15: =(Q15*(Q15-1)*(2*Q15-1)+R15*(R15+1)*(2*R15+1))/3+S15 -> 8 | V15: =D15-S15 -> 4 | W15: =W14+90/4 -> 1372.5
B16: =MAX(TRUNC((W16+180)/360)-2,1) -> 2 | C16: 6 | D16: =U16-2 -> 7 | E16: N | F16: Nitrogen | G16: 7p+7n+7e | I16: 4-3-6 | J16: 3-3-(3) | K16: 3-2-(3) | M16: 2-2-(3) | O16: 2-1-(3) | Q16: 2 | R16: 2 | S16: -3 | T16: =SUM(Q16:R16)-2 -> 2 | U16: =(Q16*(Q16-1)*(2*Q16-1)+R16*(R16+1)*(2*R16+1))/3+S16 -> 9 | V16: =D16-S16 -> 10 | W16: =W14+90/4 -> 1372.5 | X16: =MOD(W16,360) -> 292.5
B17: =MAX(TRUNC((W17+180)/360)-2,1) -> 2 | C17: 7 | D17: =U17-2 -> 8 | E17: O | F17: Oxygen | G17: 8p+8n+8e | I17: 4-3-7 | J17: 3-3-(2) | K17: 3-2-(2) | M17: 2-2-(2) | O17: 2-1-(2) | Q17: 2 | R17: 2 | S17: -2 | T17: =SUM(Q17:R17)-2 -> 2 | U17: =(Q17*(Q17-1)*(2*Q17-1)+R17*(R17+1)*(2*R17+1))/3+S17 -> 10 | V17: =D17-S17 -> 10 | W17: =W16+90/4 -> 1395 | X17: =MOD(W17,360) -> 315
B18: =MAX(TRUNC((W18+180)/360)-2,1) -> 2 | C18: 8 | D18: =U18-2 -> 9 | E18: F | F18: Fluorine | G18: 9p+10n+9e | I18: 4-3-8 | J18: 3-3-(1) | K18: 3-2-(1) | M18: 2-2-(1) | O18: 2-1-(1) | Q18: 2 | R18: 2 | S18: -1 | T18: =SUM(Q18:R18)-2 -> 2 | U18: =(Q18*(Q18-1)*(2*Q18-1)+R18*(R18+1)*(2*R18+1))/3+S18 -> 11 | V18: =D18-S18 -> 10 | W18: =W17+90/4 -> 1417.5 | X18: =MOD(W18,360) -> 337.5
B19: =MAX(TRUNC((W19+180)/360)-2,1) -> 2 | C19: 1 | D19: =U19-2 -> 10 | E19: Ne | F19: Neon | G19: 10p+10n+10e | I19: 4-4-1 | J19: 3-3-0 | K19: 3-2-0 | M19: 2-2-0 | O19: 2-1-0 | Q19: 2 | R19: 2 | S19: 0 | T19: =SUM(Q19:R19)-2 -> 2 | U19: =(Q19*(Q19-1)*(2*Q19-1)+R19*(R19+1)*(2*R19+1))/3+S19 -> 12 | V19: =D19-S19 -> 10 | W19: =W18+90/4 -> 1440 | X19: =MOD(W19,360) -> 0 | Y19: 3 | Z19: 6
B20: =MAX(TRUNC((W20+180)/360)-2,1) -> 2 | C20: 2 | D20: =U20-2 -> 11 | E20: Na | F20: Sodium | G20: 11p+12n+11e | I20: 4-4-2 | J20: 3-3-1 | K20: 3-2-1 | M20: 2-2-1 | O20: 2-1-1 | Q20: 2 | R20: 2 | S20: 1 | T20: =SUM(Q20:R20)-2 -> 2 | U20: =(Q20*(Q20-1)*(2*Q20-1)+R20*(R20+1)*(2*R20+1))/3+S20 -> 13 | V20: =D20-S20 -> 10 | W20: =W19+90/4 -> 1462.5 | X20: =MOD(W20,360) -> 22.5
B21: =MAX(TRUNC((W21+180)/360)-2,1) -> 2 | C21: 3 | D21: =U21-2 -> 12 | E21: Mg | F21: Magnesium | G21: 12p+12n+12e | I21: 4-4-3 | J21: 3-3-2 | K21: 3-2-2 | M21: 2-2-2 | O21: 2-1-2 | Q21: 2 | R21: 2 | S21: 2 | T21: =SUM(Q21:R21)-2 -> 2 | U21: =(Q21*(Q21-1)*(2*Q21-1)+R21*(R21+1)*(2*R21+1))/3+S21 -> 14 | V21: =D21-S21 -> 10 | W21: =W20+90/4 -> 1485 | X21: =MOD(W21,360) -> 45
B22: =MAX(TRUNC((W22+180)/360)-2,1) -> 2 | C22: 4 | D22: =U22-2 -> 13 | E22: Al | F22: Aluminum | G22: 13p+14n+13e | I22: 4-4-4 | J22: 3-3-3 | K22: 3-2-3 | M22: 2-2-3 | O22: 2-1-3 | Q22: 2 | R22: 2 | S22: 3 | T22: =SUM(Q22:R22)-2 -> 2 | U22: =(Q22*(Q22-1)*(2*Q22-1)+R22*(R22+1)*(2*R22+1))/3+S22 -> 15 | V22: =D22-S22 -> 10 | W22: =W21+90/4 -> 1507.5 | X22: =MOD(W22,360) -> 67.5
B23: =MAX(TRUNC((W23+180)/360)-2,1) -> 2 | C23: 5 | D23: =U23-2 -> 14 | E23: Si | F23: Silicon | G23: 14p+14n+14e | I23: 4-4-5 | J23: 3-3-4 | K23: 3-2-4 | M23: 2-2-4 | O23: 2-1-4 | Q23: 2 | R23: 2 | S23: 4 | T23: =SUM(Q23:R23)-2 -> 2 | U23: =(Q23*(Q23-1)*(2*Q23-1)+R23*(R23+1)*(2*R23+1))/3+S23 -> 16 | V23: =D23-S23 -> 10 | W23: =W22+90/4 -> 1530 | X23: =MOD(W23,360) -> 90
B24: =MAX(TRUNC((W24+180)/360)-2,1) -> 2 | J24: 3-4-(4) | K24: 3-3-(4) | M24: 3-2-(4) | O24: 2-2-(4) | Q24: 3 | R24: 2 | S24: -4 | T24: =SUM(Q24:R24)-2 -> 3 | U24: =(Q24*(Q24-1)*(2*Q24-1)+R24*(R24+1)*(2*R24+1))/3+S24 -> 16 | V24: =D24-S24 -> 4 | W24: =W23+90/4 -> 1552.5 | X24: =MOD(W24,360) -> 112.5
B25: =MAX(TRUNC((W25+180)/360)-2,1) -> 2 | C25: 6 | D25: =U25-2 -> 15 | E25: P | F25: Phosphorus | G25: 15p+16n+15e | I25: 4-4-6 | J25: 3-4-(3) | K25: 3-3-(3) | M25: 3-2-(3) | O25: 2-2-(3) | Q25: 3 | R25: 2 | S25: -3 | T25: =SUM(Q25:R25)-2 -> 3 | U25: =(Q25*(Q25-1)*(2*Q25-1)+R25*(R25+1)*(2*R25+1))/3+S25 -> 17 | V25: =D25-S25 -> 18 | W25: =W23+90/4 -> 1552.5 | X25: =MOD(W25,360) -> 112.5
B26: =MAX(TRUNC((W26+180)/360)-2,1) -> 2 | C26: 7 | D26: =U26-2 -> 16 | E26: S | F26: Sulfur | G26: 16p+16n+16e | I26: 4-4-7 | J26: 3-4-(2) | K26: 3-3-(2) | M26: 3-2-(2) | O26: 2-2-(2) | Q26: 3 | R26: 2 | S26: -2 | T26: =SUM(Q26:R26)-2 -> 3 | U26: =(Q26*(Q26-1)*(2*Q26-1)+R26*(R26+1)*(2*R26+1))/3+S26 -> 18 | V26: =D26-S26 -> 18 | W26: =W25+90/4 -> 1575 | X26: =MOD(W26,360) -> 135
B27: =MAX(TRUNC((W27+180)/360)-2,1) -> 2 | C27: 8 | D27: =U27-2 -> 17 | E27: Cl | F27: Chlorine | G27: 17p+18n+17e | I27: 4-4-8 | J27: 3-4-(1) | K27: 3-3-(1) | M27: 3-2-(1) | O27: 2-2-(1) | Q27: 3 | R27: 2 | S27: -1 | T27: =SUM(Q27:R27)-2 -> 3 | U27: =(Q27*(Q27-1)*(2*Q27-1)+R27*(R27+1)*(2*R27+1))/3+S27 -> 19 | V27: =D27-S27 -> 18 | W27: =W26+90/4 -> 1597.5 | X27: =MOD(W27,360) -> 157.5
A28: Intermediate Atomic Group | B28: =MAX(TRUNC((W28+180)/360)-2,1) -> 3 | C28: 1 | D28: =U28-2 -> 18 | E28: Ar | F28: Argon | G28: 18p+22n+18e | I28: 5-4-1 | J28: 3-4-0 | K28: 3-3-0 | M28: 3-2-0 | O28: 2-2-0 | Q28: 3 | R28: 2 | S28: 0 | T28: =SUM(Q28:R28)-2 -> 3 | U28: =(Q28*(Q28-1)*(2*Q28-1)+R28*(R28+1)*(2*R28+1))/3+S28 -> 20 | V28: =D28-S28 -> 18 | W28: =W27+90/4 -> 1620 | X28: =MOD(W28,360) -> 180 | Y28: 4 | Z28: 8
B29: =MAX(TRUNC((W29+180)/360)-2,1) -> 3 | C29: 2 | D29: =U29-2 -> 19 | E29: K | F29: Potassium | G29: 19p+20n+19e | I29: 5-4-2 | J29: 4-3-1 | K29: 3-3-1 | M29: 3-2-1 | O29: 2-2-1 | Q29: 3 | R29: 2 | S29: 1 | T29: =SUM(Q29:R29)-2 -> 3 | U29: =(Q29*(Q29-1)*(2*Q29-1)+R29*(R29+1)*(2*R29+1))/3+S29 -> 21 | V29: =D29-S29 -> 18 | W29: =W28+90/9 -> 1630 | X29: =MOD(W29,360) -> 190
B30: =MAX(TRUNC((W30+180)/360)-2,1) -> 3 | C30: 3 | D30: =U30-2 -> 20 | E30: Ca | F30: Calcium | G30: 20p+20n+20e | I30: 5-4-3 | J30: 4-3-2 | K30: 3-3-2 | M30: 3-2-2 | O30: 2-2-2 | Q30: 3 | R30: 2 | S30: 2 | T30: =SUM(Q30:R30)-2 -> 3 | U30: =(Q30*(Q30-1)*(2*Q30-1)+R30*(R30+1)*(2*R30+1))/3+S30 -> 22 | V30: =D30-S30 -> 18 | W30: =W29+90/9 -> 1640 | X30: =MOD(W30,360) -> 200
B31: =MAX(TRUNC((W31+180)/360)-2,1) -> 3 | C31: 4 | D31: =U31-2 -> 21 | E31: Sc | F31: Scandium | G31: 21p+24n+21e | I31: 5-4-4 | J31: 4-3-3 | K31: 3-3-3 | M31: 3-2-3 | O31: 2-2-3 | Q31: 3 | R31: 2 | S31: 3 | T31: =SUM(Q31:R31)-2 -> 3 | U31: =(Q31*(Q31-1)*(2*Q31-1)+R31*(R31+1)*(2*R31+1))/3+S31 -> 23 | V31: =D31-S31 -> 18 | W31: =W30+90/9 -> 1650 | X31: =MOD(W31,360) -> 210
B32: =MAX(TRUNC((W32+180)/360)-2,1) -> 3 | C32: 5 | D32: =U32-2 -> 22 | E32: Ti | F32: Titanium | G32: 22p+26n+22e | I32: 5-4-5 | J32: 4-3-4 | K32: 3-3-4 | M32: 3-2-4 | O32: 2-2-4 | Q32: 3 | R32: 2 | S32: 4 | T32: =SUM(Q32:R32)-2 -> 3 | U32: =(Q32*(Q32-1)*(2*Q32-1)+R32*(R32+1)*(2*R32+1))/3+S32 -> 24 | V32: =D32-S32 -> 18 | W32: =W31+90/9 -> 1660 | X32: =MOD(W32,360) -> 220
B33: =MAX(TRUNC((W33+180)/360)-2,1) -> 3 | C33: 6 | D33: =U33-2 -> 23 | E33: V | F33: Vanadium | G33: 23p+28n+23e | I33: 5-4-6 | J33: 4-3-5 | K33: 3-3-5 | M33: 3-2-5 | O33: 2-2-5 | Q33: 3 | R33: 2 | S33: 5 | T33: =SUM(Q33:R33)-2 -> 3 | U33: =(Q33*(Q33-1)*(2*Q33-1)+R33*(R33+1)*(2*R33+1))/3+S33 -> 25 | V33: =D33-S33 -> 18 | W33: =W32+90/9 -> 1670 | X33: =MOD(W33,360) -> 230
B34: =MAX(TRUNC((W34+180)/360)-2,1) -> 3 | C34: 7 | D34: =U34-2 -> 24 | E34: Cr | F34: Chromium | G34: 24p+28n+24e | I34: 5-4-7 | J34: 4-3-6 | K34: 3-3-6 | M34: 3-2-6 | O34: 2-2-6 | Q34: 3 | R34: 2 | S34: 6 | T34: =SUM(Q34:R34)-2 -> 3 | U34: =(Q34*(Q34-1)*(2*Q34-1)+R34*(R34+1)*(2*R34+1))/3+S34 -> 26 | V34: =D34-S34 -> 18 | W34: =W33+90/9 -> 1680 | X34: =MOD(W34,360) -> 240
B35: =MAX(TRUNC((W35+180)/360)-2,1) -> 3 | C35: 8 | D35: =U35-2 -> 25 | E35: Mn | F35: Manganese | G35: 25p+30n+25e | I35: 5-4-8 | J35: 4-3-7 | K35: 3-3-7 | M35: 3-2-7 | O35: 2-2-7 | Q35: 3 | R35: 2 | S35: 7 | T35: =SUM(Q35:R35)-2 -> 3 | U35: =(Q35*(Q35-1)*(2*Q35-1)+R35*(R35+1)*(2*R35+1))/3+S35 -> 27 | V35: =D35-S35 -> 18 | W35: =W34+90/9 -> 1690 | X35: =MOD(W35,360) -> 250
B36: =MAX(TRUNC((W36+180)/360)-2,1) -> 3 | C36: 9 | D36: =U36-2 -> 26 | E36: Fe | F36: Iron | G36: 26p+30n+26e | I36: 5-4-9 | J36: 4-3-8 | K36: 3-3-8 | M36: 3-2-8 | O36: 2-2-8 | Q36: 3 | R36: 2 | S36: 8 | T36: =SUM(Q36:R36)-2 -> 3 | U36: =(Q36*(Q36-1)*(2*Q36-1)+R36*(R36+1)*(2*R36+1))/3+S36 -> 28 | V36: =D36-S36 -> 18 | W36: =W35+90/9 -> 1700 | X36: =MOD(W36,360) -> 260
B37: =MAX(TRUNC((W37+180)/360)-2,1) -> 3 | C37: 10 | D37: =U37-2 -> 27 | E37: Co | F37: Cobalt | G37: 27p+32n+27e | I37: 5-4-10 | J37: 4-3-9 | K37: 3-3-9 | M37: 3-2-9 | O37: 2-2-9 | Q37: 3 | R37: 2 | S37: 9 | T37: =SUM(Q37:R37)-2 -> 3 | U37: =(Q37*(Q37-1)*(2*Q37-1)+R37*(R37+1)*(2*R37+1))/3+S37 -> 29 | V37: =D37-S37 -> 18 | W37: =W36+90/9 -> 1710 | X37: =MOD(W37,360) -> 270
B38: =MAX(TRUNC((W38+180)/360)-2,1) -> 3 | J38: 4-4-(9) | K38: 4-3-(9) | M38: 3-3-(9) | O38: 3-2-(9) | Q38: 3 | R38: 3 | S38: -9 | T38: =SUM(Q38:R38)-2 -> 4 | U38: =(Q38*(Q38-1)*(2*Q38-1)+R38*(R38+1)*(2*R38+1))/3+S38 -> 29 | W38: =W37+90/9 -> 1720 | X38: =MOD(W38,360) -> 280
B39: =MAX(TRUNC((W39+180)/360)-2,1) -> 3 | C39: 11 | D39: =U39-2 -> 28 | E39: Ni | F39: Nickel | G39: 28p+31n+28e | I39: 5-4-11 | J39: 4-3-10 | K39: 4-3-(8) | M39: 3-3-(8) | O39: 3-2-(8) | Q39: 3 | R39: 3 | S39: -8 | T39: =SUM(Q39:R39)-2 -> 4 | U39: =(Q39*(Q39-1)*(2*Q39-1)+R39*(R39+1)*(2*R39+1))/3+S39 -> 30 | V39: =D39-S39 -> 36 | W39: =W37+90/9 -> 1720 | X39: =MOD(W39,360) -> 280
B40: =MAX(TRUNC((W40+180)/360)-2,1) -> 3 | C40: 12 | D40: =U40-2 -> 29 | E40: Cu | F40: Copper | G40: 29p+35n+29e | I40: 5-4-12 | J40: 4-3-11 | K40: 4-3-(7) | M40: 3-3-(7) | O40: 3-2-(7) | Q40: 3 | R40: 3 | S40: -7 | T40: =SUM(Q40:R40)-2 -> 4 | U40: =(Q40*(Q40-1)*(2*Q40-1)+R40*(R40+1)*(2*R40+1))/3+S40 -> 31 | V40: =D40-S40 -> 36 | W40: =W39+90/9 -> 1730 | X40: =MOD(W40,360) -> 290
B41: =MAX(TRUNC((W41+180)/360)-2,1) -> 3 | C41: 13 | D41: =U41-2 -> 30 | E41: Zn | F41: Zinc | G41: 30p+35n+30e | I41: 5-4-13 | J41: 4-3-12 | K41: 4-3-(6) | M41: 3-3-(6) | O41: 3-2-(6) | Q41: 3 | R41: 3 | S41: -6 | T41: =SUM(Q41:R41)-2 -> 4 | U41: =(Q41*(Q41-1)*(2*Q41-1)+R41*(R41+1)*(2*R41+1))/3+S41 -> 32 | V41: =D41-S41 -> 36 | W41: =W40+90/9 -> 1740 | X41: =MOD(W41,360) -> 300
B42: =MAX(TRUNC((W42+180)/360)-2,1) -> 3 | C42: 14 | D42: =U42-2 -> 31 | E42: Ga | F42: Gallium | G42: 31p+39n+31e | I42: 5-4-14 | J42: 4-3-13 | K42: 4-3-(5) | M42: 3-3-(5) | O42: 3-2-(5) | Q42: 3 | R42: 3 | S42: -5 | T42: =SUM(Q42:R42)-2 -> 4 | U42: =(Q42*(Q42-1)*(2*Q42-1)+R42*(R42+1)*(2*R42+1))/3+S42 -> 33 | V42: =D42-S42 -> 36 | W42: =W41+90/9 -> 1750 | X42: =MOD(W42,360) -> 310
B43: =MAX(TRUNC((W43+180)/360)-2,1) -> 3 | C43: 15 | D43: =U43-2 -> 32 | E43: Ge | F43: Germanium | G43: 32p+41n+32e | I43: 5-4-15 | J43: 4-3-14 | K43: 4-3-(4) | M43: 3-3-(4) | O43: 3-2-(4) | Q43: 3 | R43: 3 | S43: -4 | T43: =SUM(Q43:R43)-2 -> 4 | U43: =(Q43*(Q43-1)*(2*Q43-1)+R43*(R43+1)*(2*R43+1))/3+S43 -> 34 | V43: =D43-S43 -> 36 | W43: =W42+90/9 -> 1760 | X43: =MOD(W43,360) -> 320
B44: =MAX(TRUNC((W44+180)/360)-2,1) -> 3 | C44: 16 | D44: =U44-2 -> 33 | E44: As | F44: Arsenic | G44: 33p+42n+33e | I44: 5-4-16 | J44: 4-3-15 | K44: 4-3-(3) | M44: 3-3-(3) | O44: 3-2-(3) | Q44: 3 | R44: 3 | S44: -3 | T44: =SUM(Q44:R44)-2 -> 4 | U44: =(Q44*(Q44-1)*(2*Q44-1)+R44*(R44+1)*(2*R44+1))/3+S44 -> 35 | V44: =D44-S44 -> 36 | W44: =W43+90/9 -> 1770 | X44: =MOD(W44,360) -> 330
B45: =MAX(TRUNC((W45+180)/360)-2,1) -> 3 | C45: 17 | D45: =U45-2 -> 34 | E45: Se | F45: Selemium | G45: 34p+45n+34e | I45: 5-4-17 | J45: 4-3-16 | K45: 4-3-(2) | M45: 3-3-(2) | O45: 3-2-(2) | Q45: 3 | R45: 3 | S45: -2 | T45: =SUM(Q45:R45)-2 -> 4 | U45: =(Q45*(Q45-1)*(2*Q45-1)+R45*(R45+1)*(2*R45+1))/3+S45 -> 36 | V45: =D45-S45 -> 36 | W45: =W44+90/9 -> 1780 | X45: =MOD(W45,360) -> 340
B46: =MAX(TRUNC((W46+180)/360)-2,1) -> 3 | C46: 18 | D46: =U46-2 -> 35 | E46: Br | F46: Bromine | G46: 35p+44n+35e | I46: 5-4-18 | J46: 4-3-17 | K46: 4-3-(1) | M46: 3-3-(1) | O46: 3-2-(1) | Q46: 3 | R46: 3 | S46: -1 | T46: =SUM(Q46:R46)-2 -> 4 | U46: =(Q46*(Q46-1)*(2*Q46-1)+R46*(R46+1)*(2*R46+1))/3+S46 -> 37 | V46: =D46-S46 -> 36 | W46: =W45+90/9 -> 1790 | X46: =MOD(W46,360) -> 350
B47: =MAX(TRUNC((W47+180)/360)-2,1) -> 3 | C47: 1 | D47: =U47-2 -> 36 | E47: Kr | F47: Krypton | G47: 36p+48n+36e | I47: 5-5-1 | J47: 4-4-0 | K47: 4-3-0 | M47: 3-3-0 | O47: 3-2-0 | Q47: 3 | R47: 3 | S47: 0 | T47: =SUM(Q47:R47)-2 -> 4 | U47: =(Q47*(Q47-1)*(2*Q47-1)+R47*(R47+1)*(2*R47+1))/3+S47 -> 38 | V47: =D47-S47 -> 36 | W47: =W46+90/9 -> 1800 | X47: =MOD(W47,360) -> 0 | Y47: 5 | Z47: 10
B48: =MAX(TRUNC((W48+180)/360)-2,1) -> 3 | C48: 2 | D48: =U48-2 -> 37 | E48: Rb | F48: Rubidium | G48: 37p+48n+37e | I48: 5-5-2 | J48: 4-4-1 | K48: 4-3-1 | M48: 3-3-1 | O48: 3-2-1 | Q48: 3 | R48: 3 | S48: 1 | T48: =SUM(Q48:R48)-2 -> 4 | U48: =(Q48*(Q48-1)*(2*Q48-1)+R48*(R48+1)*(2*R48+1))/3+S48 -> 39 | V48: =D48-S48 -> 36 | W48: =W47+90/9 -> 1810 | X48: =MOD(W48,360) -> 10
B49: =MAX(TRUNC((W49+180)/360)-2,1) -> 3 | C49: 3 | D49: =U49-2 -> 38 | E49: Sr | F49: Strondium | G49: 38p+50n+38e | I49: 5-5-3 | J49: 4-4-2 | K49: 4-3-2 | M49: 3-3-2 | O49: 3-2-2 | Q49: 3 | R49: 3 | S49: 2 | T49: =SUM(Q49:R49)-2 -> 4 | U49: =(Q49*(Q49-1)*(2*Q49-1)+R49*(R49+1)*(2*R49+1))/3+S49 -> 40 | V49: =D49-S49 -> 36 | W49: =W48+90/9 -> 1820 | X49: =MOD(W49,360) -> 20
B50: =MAX(TRUNC((W50+180)/360)-2,1) -> 3 | C50: 4 | D50: =U50-2 -> 39 | E50: Y | F50: Yitrium | G50: 39p+50n+39e | I50: 5-5-4 | J50: 4-4-3 | K50: 4-3-3 | M50: 3-3-3 | O50: 3-2-3 | Q50: 3 | R50: 3 | S50: 3 | T50: =SUM(Q50:R50)-2 -> 4 | U50: =(Q50*(Q50-1)*(2*Q50-1)+R50*(R50+1)*(2*R50+1))/3+S50 -> 41 | V50: =D50-S50 -> 36 | W50: =W49+90/9 -> 1830 | X50: =MOD(W50,360) -> 30
B51: =MAX(TRUNC((W51+180)/360)-2,1) -> 3 | C51: 5 | D51: =U51-2 -> 40 | E51: Zr | F51: Zirconium | G51: 40p+52n+40e | I51: 5-5-5 | J51: 4-4-4 | K51: 4-3-4 | M51: 3-3-4 | O51: 3-2-4 | Q51: 3 | R51: 3 | S51: 4 | T51: =SUM(Q51:R51)-2 -> 4 | U51: =(Q51*(Q51-1)*(2*Q51-1)+R51*(R51+1)*(2*R51+1))/3+S51 -> 42 | V51: =D51-S51 -> 36 | W51: =W50+90/9 -> 1840 | X51: =MOD(W51,360) -> 40
B52: =MAX(TRUNC((W52+180)/360)-2,1) -> 3 | C52: 6 | D52: =U52-2 -> 41 | E52: Nb | F52: Niobium | G52: 41p+52n+41e | I52: 5-5-6 | J52: 4-4-5 | K52: 4-3-5 | M52: 3-3-5 | O52: 3-2-5 | Q52: 3 | R52: 3 | S52: 5 | T52: =SUM(Q52:R52)-2 -> 4 | U52: =(Q52*(Q52-1)*(2*Q52-1)+R52*(R52+1)*(2*R52+1))/3+S52 -> 43 | V52: =D52-S52 -> 36 | W52: =W51+90/9 -> 1850 | X52: =MOD(W52,360) -> 50
B53: =MAX(TRUNC((W53+180)/360)-2,1) -> 3 | C53: 7 | D53: =U53-2 -> 42 | E53: Mo | F53: Molybdenum | G53: 42p+54n+42e | I53: 5-5-7 | J53: 4-4-6 | K53: 4-3-6 | M53: 3-3-6 | O53: 3-2-6 | Q53: 3 | R53: 3 | S53: 6 | T53: =SUM(Q53:R53)-2 -> 4 | U53: =(Q53*(Q53-1)*(2*Q53-1)+R53*(R53+1)*(2*R53+1))/3+S53 -> 44 | V53: =D53-S53 -> 36 | W53: =W52+90/9 -> 1860 | X53: =MOD(W53,360) -> 60
B54: =MAX(TRUNC((W54+180)/360)-2,1) -> 3 | C54: 8 | D54: =U54-2 -> 43 | E54: Tc | F54: Technetium | G54: 43p+55n+43e | I54: 5-5-8 | J54: 4-4-7 | K54: 4-3-7 | M54: 3-3-7 | O54: 3-2-7 | Q54: 3 | R54: 3 | S54: 7 | T54: =SUM(Q54:R54)-2 -> 4 | U54: =(Q54*(Q54-1)*(2*Q54-1)+R54*(R54+1)*(2*R54+1))/3+S54 -> 45 | V54: =D54-S54 -> 36 | W54: =W53+90/9 -> 1870 | X54: =MOD(W54,360) -> 70
B55: =MAX(TRUNC((W55+180)/360)-2,1) -> 3 | C55: 9 | D55: =U55-2 -> 44 | E55: Ru | F55: Ruthenium | G55: 44p+57n+44e | I55: 5-5-9 | J55: 4-4-8 | K55: 4-3-8 | M55: 3-3-8 | O55: 3-2-8 | Q55: 3 | R55: 3 | S55: 8 | T55: =SUM(Q55:R55)-2 -> 4 | U55: =(Q55*(Q55-1)*(2*Q55-1)+R55*(R55+1)*(2*R55+1))/3+S55 -> 46 | V55: =D55-S55 -> 36 | W55: =W54+90/9 -> 1880 | X55: =MOD(W55,360) -> 80
B56: =MAX(TRUNC((W56+180)/360)-2,1) -> 3 | C56: 10 | D56: =U56-2 -> 45 | E56: Rh | F56: Rhodium | G56: 45p+58n+45e | I56: 5-5-10 | J56: 4-4-9 | K56: 4-3-9 | M56: 3-3-9 | O56: 3-2-9 | Q56: 3 | R56: 3 | S56: 9 | T56: =SUM(Q56:R56)-2 -> 4 | U56: =(Q56*(Q56-1)*(2*Q56-1)+R56*(R56+1)*(2*R56+1))/3+S56 -> 47 | V56: =D56-S56 -> 36 | W56: =W55+90/9 -> 1890 | X56: =MOD(W56,360) -> 90
B57: =MAX(TRUNC((W57+180)/360)-2,1) -> 3 | J57: 5-4-(9) | K57: 4-4-(9) | M57: 4-3-(9) | O57: 3-3-(9) | Q57: 4 | R57: 3 | S57: -9 | T57: =SUM(Q57:R57)-2 -> 5 | U57: =(Q57*(Q57-1)*(2*Q57-1)+R57*(R57+1)*(2*R57+1))/3+S57 -> 47 | V57: =D57-S57 -> 9 | W57: =W56+90/9 -> 1900 | X57: =MOD(W57,360) -> 100
B58: =MAX(TRUNC((W58+180)/360)-2,1) -> 3 | C58: 11 | D58: =U58-2 -> 46 | E58: Pd | F58: Palladium | G58: 46p+60n+46e | I58: 5-5-11 | J58: 5-4-(8) | K58: 4-4-(8) | M58: 4-3-(8) | O58: 3-3-(8) | Q58: 4 | R58: 3 | S58: -8 | T58: =SUM(Q58:R58)-2 -> 5 | U58: =(Q58*(Q58-1)*(2*Q58-1)+R58*(R58+1)*(2*R58+1))/3+S58 -> 48 | V58: =D58-S58 -> 54 | W58: =W56+90/9 -> 1900 | X58: =MOD(W58,360) -> 100
B59: =MAX(TRUNC((W59+180)/360)-2,1) -> 3 | C59: 12 | D59: =U59-2 -> 47 | E59: Ag | F59: Silver | G59: 47p+61n+47e | I59: 5-5-12 | J59: 5-4-(7) | K59: 4-4-(7) | M59: 4-3-(7) | O59: 3-3-(7) | Q59: 4 | R59: 3 | S59: -7 | T59: =SUM(Q59:R59)-2 -> 5 | U59: =(Q59*(Q59-1)*(2*Q59-1)+R59*(R59+1)*(2*R59+1))/3+S59 -> 49 | V59: =D59-S59 -> 54 | W59: =W58+90/9 -> 1910 | X59: =MOD(W59,360) -> 110
B60: =MAX(TRUNC((W60+180)/360)-2,1) -> 3 | C60: 13 | D60: =U60-2 -> 48 | E60: Cd | F60: Cadmium | G60: 48p+64n+48e | I60: 5-5-13 | J60: 5-4-(6) | K60: 4-4-(6) | M60: 4-3-(6) | O60: 3-3-(6) | Q60: 4 | R60: 3 | S60: -6 | T60: =SUM(Q60:R60)-2 -> 5 | U60: =(Q60*(Q60-1)*(2*Q60-1)+R60*(R60+1)*(2*R60+1))/3+S60 -> 50 | V60: =D60-S60 -> 54 | W60: =W59+90/9 -> 1920 | X60: =MOD(W60,360) -> 120
B61: =MAX(TRUNC((W61+180)/360)-2,1) -> 3 | C61: 14 | D61: =U61-2 -> 49 | E61: In | F61: Indium | G61: 49p+66n+49e | I61: 5-5-14 | J61: 5-4-(5) | K61: 4-4-(5) | M61: 4-3-(5) | O61: 3-3-(5) | Q61: 4 | R61: 3 | S61: -5 | T61: =SUM(Q61:R61)-2 -> 5 | U61: =(Q61*(Q61-1)*(2*Q61-1)+R61*(R61+1)*(2*R61+1))/3+S61 -> 51 | V61: =D61-S61 -> 54 | W61: =W60+90/9 -> 1930 | X61: =MOD(W61,360) -> 130
B62: =MAX(TRUNC((W62+180)/360)-2,1) -> 3 | C62: 15 | D62: =U62-2 -> 50 | E62: Sn | F62: Tin | G62: 50p+69n+50e | I62: 5-5-15 | J62: 5-4-(4) | K62: 4-4-(4) | M62: 4-3-(4) | O62: 3-3-(4) | Q62: 4 | R62: 3 | S62: -4 | T62: =SUM(Q62:R62)-2 -> 5 | U62: =(Q62*(Q62-1)*(2*Q62-1)+R62*(R62+1)*(2*R62+1))/3+S62 -> 52 | V62: =D62-S62 -> 54 | W62: =W61+90/9 -> 1940 | X62: =MOD(W62,360) -> 140
B63: =MAX(TRUNC((W63+180)/360)-2,1) -> 3 | C63: 16 | D63: =U63-2 -> 51 | E63: Sb | F63: Antimony | G63: 51p+71n+51e | I63: 5-5-16 | J63: 5-4-(3) | K63: 4-4-(3) | M63: 4-3-(3) | O63: 3-3-(3) | Q63: 4 | R63: 3 | S63: -3 | T63: =SUM(Q63:R63)-2 -> 5 | U63: =(Q63*(Q63-1)*(2*Q63-1)+R63*(R63+1)*(2*R63+1))/3+S63 -> 53 | V63: =D63-S63 -> 54 | W63: =W62+90/9 -> 1950 | X63: =MOD(W63,360) -> 150
B64: =MAX(TRUNC((W64+180)/360)-2,1) -> 3 | C64: 17 | D64: =U64-2 -> 52 | E64: Te | F64: Tellurium | G64: 52p+76n+52e | I64: 5-5-17 | J64: 5-4-(2) | K64: 4-4-(2) | M64: 4-3-(2) | O64: 3-3-(2) | Q64: 4 | R64: 3 | S64: -2 | T64: =SUM(Q64:R64)-2 -> 5 | U64: =(Q64*(Q64-1)*(2*Q64-1)+R64*(R64+1)*(2*R64+1))/3+S64 -> 54 | V64: =D64-S64 -> 54 | W64: =W63+90/9 -> 1960 | X64: =MOD(W64,360) -> 160
B65: =MAX(TRUNC((W65+180)/360)-2,1) -> 3 | C65: 18 | D65: =U65-2 -> 53 | E65: I | F65: Iodine | G65: 53p+74n+53e | I65: 5-5-18 | J65: 5-4-(1) | K65: 4-4-(1) | M65: 4-3-(1) | O65: 3-3-(1) | Q65: 4 | R65: 3 | S65: -1 | T65: =SUM(Q65:R65)-2 -> 5 | U65: =(Q65*(Q65-1)*(2*Q65-1)+R65*(R65+1)*(2*R65+1))/3+S65 -> 55 | V65: =D65-S65 -> 54 | W65: =W64+90/9 -> 1970 | X65: =MOD(W65,360) -> 170
A66: Upper Atomic Group | B66: =MAX(TRUNC((W66+180)/360)-2,1) -> 4 | C66: 1 | D66: =U66-2 -> 54 | E66: Xe | F66: Xenon | G66: 54p+77n+54e | I66: 6-5-1 | J66: 5-4-0 | K66: 4-4-0 | M66: 4-3-0 | O66: 3-3-0 | Q66: 4 | R66: 3 | S66: 0 | T66: =SUM(Q66:R66)-2 -> 5 | U66: =(Q66*(Q66-1)*(2*Q66-1)+R66*(R66+1)*(2*R66+1))/3+S66 -> 56 | V66: =D66-S66 -> 54 | W66: =W65+90/9 -> 1980 | X66: =MOD(W66,360) -> 180 | Y66: 6 | Z66: 12
B67: =MAX(TRUNC((W67+180)/360)-2,1) -> 4 | C67: 2 | D67: =U67-2 -> 55 | E67: Cs | F67: Cesium | G67: 55p+78n+55e | I67: 6-5-2 | J67: 5-4-1 | K67: 4-4-1 | M67: 4-3-1 | O67: 3-3-1 | Q67: 4 | R67: 3 | S67: 1 | T67: =SUM(Q67:R67)-2 -> 5 | U67: =(Q67*(Q67-1)*(2*Q67-1)+R67*(R67+1)*(2*R67+1))/3+S67 -> 57 | V67: =D67-S67 -> 54 | W67: =W66+90/16 -> 1985.625 | X67: =MOD(W67,360) -> 185.625
B68: =MAX(TRUNC((W68+180)/360)-2,1) -> 4 | C68: 3 | D68: =U68-2 -> 56 | E68: Ba | F68: Barium | G68: 56p+81n+56e | I68: 6-5-3 | J68: 5-4-2 | K68: 4-4-2 | M68: 4-3-2 | O68: 3-3-2 | Q68: 4 | R68: 3 | S68: 2 | T68: =SUM(Q68:R68)-2 -> 5 | U68: =(Q68*(Q68-1)*(2*Q68-1)+R68*(R68+1)*(2*R68+1))/3+S68 -> 58 | V68: =D68-S68 -> 54 | W68: =W67+90/16 -> 1991.25 | X68: =MOD(W68,360) -> 191.25
B69: =MAX(TRUNC((W69+180)/360)-2,1) -> 4 | C69: 4 | D69: =U69-2 -> 57 | E69: La | F69: Lanthanum | G69: 57p+82n+57e | I69: 6-5-4 | J69: 5-4-3 | K69: 4-4-3 | M69: 4-3-3 | O69: 3-3-3 | Q69: 4 | R69: 3 | S69: 3 | T69: =SUM(Q69:R69)-2 -> 5 | U69: =(Q69*(Q69-1)*(2*Q69-1)+R69*(R69+1)*(2*R69+1))/3+S69 -> 59 | V69: =D69-S69 -> 54 | W69: =W68+90/16 -> 1996.875 | X69: =MOD(W69,360) -> 196.875
B70: =MAX(TRUNC((W70+180)/360)-2,1) -> 4 | C70: 5 | D70: =U70-2 -> 58 | E70: Ce | F70: Cerium | G70: 58p+82n+58e | I70: 6-5-5 | J70: 5-4-4 | K70: 4-4-4 | M70: 4-3-4 | O70: 3-3-4 | Q70: 4 | R70: 3 | S70: 4 | T70: =SUM(Q70:R70)-2 -> 5 | U70: =(Q70*(Q70-1)*(2*Q70-1)+R70*(R70+1)*(2*R70+1))/3+S70 -> 60 | V70: =D70-S70 -> 54 | W70: =W69+90/16 -> 2002.5 | X70: =MOD(W70,360) -> 202.5
B71: =MAX(TRUNC((W71+180)/360)-2,1) -> 4 | C71: 6 | D71: =U71-2 -> 59 | E71: Pr | F71: Praseodymium | G71: 59p+82n+59e | I71: 6-5-6 | J71: 5-4-5 | K71: 4-4-5 | M71: 4-3-5 | O71: 3-3-5 | Q71: 4 | R71: 3 | S71: 5 | T71: =SUM(Q71:R71)-2 -> 5 | U71: =(Q71*(Q71-1)*(2*Q71-1)+R71*(R71+1)*(2*R71+1))/3+S71 -> 61 | V71: =D71-S71 -> 54 | W71: =W70+90/16 -> 2008.125 | X71: =MOD(W71,360) -> 208.125
B72: =MAX(TRUNC((W72+180)/360)-2,1) -> 4 | C72: 7 | D72: =U72-2 -> 60 | E72: Nd | F72: Neodymium | G72: 60p+84n+60e | I72: 6-5-7 | J72: 5-4-6 | K72: 4-4-6 | M72: 4-3-6 | O72: 3-3-6 | Q72: 4 | R72: 3 | S72: 6 | T72: =SUM(Q72:R72)-2 -> 5 | U72: =(Q72*(Q72-1)*(2*Q72-1)+R72*(R72+1)*(2*R72+1))/3+S72 -> 62 | V72: =D72-S72 -> 54 | W72: =W71+90/16 -> 2013.75 | X72: =MOD(W72,360) -> 213.75
B73: =MAX(TRUNC((W73+180)/360)-2,1) -> 4 | C73: 8 | D73: =U73-2 -> 61 | E73: Pm | F73: Prometheium | G73: 61p+84n+61e | I73: 6-5-8 | J73: 5-4-7 | K73: 4-4-7 | M73: 4-3-7 | O73: 3-3-7 | Q73: 4 | R73: 3 | S73: 7 | T73: =SUM(Q73:R73)-2 -> 5 | U73: =(Q73*(Q73-1)*(2*Q73-1)+R73*(R73+1)*(2*R73+1))/3+S73 -> 63 | V73: =D73-S73 -> 54 | W73: =W72+90/16 -> 2019.375 | X73: =MOD(W73,360) -> 219.375
B74: =MAX(TRUNC((W74+180)/360)-2,1) -> 4 | C74: 9 | D74: =U74-2 -> 62 | E74: Sm | F74: Samarium | G74: 62p+88n+62e | I74: 6-5-9 | J74: 5-4-8 | K74: 4-4-8 | M74: 4-3-8 | O74: 3-3-8 | Q74: 4 | R74: 3 | S74: 8 | T74: =SUM(Q74:R74)-2 -> 5 | U74: =(Q74*(Q74-1)*(2*Q74-1)+R74*(R74+1)*(2*R74+1))/3+S74 -> 64 | V74: =D74-S74 -> 54 | W74: =W73+90/16 -> 2025 | X74: =MOD(W74,360) -> 225
B75: =MAX(TRUNC((W75+180)/360)-2,1) -> 4 | C75: 10 | D75: =U75-2 -> 63 | E75: Eu | F75: Europium | G75: 63p+89n+63e | I75: 6-5-10 | J75: 5-4-9 | K75: 4-4-9 | M75: 4-3-9 | O75: 3-3-9 | Q75: 4 | R75: 3 | S75: 9 | T75: =SUM(Q75:R75)-2 -> 5 | U75: =(Q75*(Q75-1)*(2*Q75-1)+R75*(R75+1)*(2*R75+1))/3+S75 -> 65 | V75: =D75-S75 -> 54 | W75: =W74+90/16 -> 2030.625 | X75: =MOD(W75,360) -> 230.625
B76: =MAX(TRUNC((W76+180)/360)-2,1) -> 4 | C76: 11 | D76: =U76-2 -> 64 | E76: Gd | F76: Gadolinium | G76: 64p+93n+64e | I76: 6-5-11 | J76: 5-4-10 | K76: 4-4-10 | M76: 4-3-10 | O76: 3-3-10 | Q76: 4 | R76: 3 | S76: 10 | T76: =SUM(Q76:R76)-2 -> 5 | U76: =(Q76*(Q76-1)*(2*Q76-1)+R76*(R76+1)*(2*R76+1))/3+S76 -> 66 | V76: =D76-S76 -> 54 | W76: =W75+90/16 -> 2036.25 | X76: =MOD(W76,360) -> 236.25
B77: =MAX(TRUNC((W77+180)/360)-2,1) -> 4 | C77: 12 | D77: =U77-2 -> 65 | E77: Tb | F77: Terbium | G77: 65p+94n+65e | I77: 6-5-12 | J77: 5-4-11 | K77: 4-4-11 | M77: 4-3-11 | O77: 3-3-11 | Q77: 4 | R77: 3 | S77: 11 | T77: =SUM(Q77:R77)-2 -> 5 | U77: =(Q77*(Q77-1)*(2*Q77-1)+R77*(R77+1)*(2*R77+1))/3+S77 -> 67 | V77: =D77-S77 -> 54 | W77: =W76+90/16 -> 2041.875 | X77: =MOD(W77,360) -> 241.875
B78: =MAX(TRUNC((W78+180)/360)-2,1) -> 4 | C78: 13 | D78: =U78-2 -> 66 | E78: Dy | F78: Dysprosium | G78: 66p+97n+66e | I78: 6-5-13 | J78: 5-4-12 | K78: 4-4-12 | M78: 4-3-12 | O78: 3-3-12 | Q78: 4 | R78: 3 | S78: 12 | T78: =SUM(Q78:R78)-2 -> 5 | U78: =(Q78*(Q78-1)*(2*Q78-1)+R78*(R78+1)*(2*R78+1))/3+S78 -> 68 | V78: =D78-S78 -> 54 | W78: =W77+90/16 -> 2047.5 | X78: =MOD(W78,360) -> 247.5
... B82: =MAX(TRUNC((W82+180)/360)-2,1) -> 4 | C82: 17 | D82: =U82-2 -> 70 | E82: Yb | F82: Ytterbium | G82: 70p+103n+70e | I82: 6-5-17 | J82: 5-4-16 | K82: 4-4-16 | M82: 4-3-16 | O82: 3-3-16 | Q82: 4 | R82: 3 | S82: 16 | T82: =SUM(Q82:R82)-2 -> 5 | U82: =(Q82*(Q82-1)*(2*Q82-1)+R82*(R82+1)*(2*R82+1))/3+S82 -> 72 | V82: =D82-S82 -> 54 | W82: =W81+90/16 -> 2070 | X82: =MOD(W82,360) -> 270
B83: =MAX(TRUNC((W83+180)/360)-2,1) -> 4 | J83: 5-5-(16) | K83: 5-4-(16) | M83: 4-4-(16) | O83: 3-3-17 | P83: 4-3-(16) | Q83: 4 | R83: 4 | S83: -16 | T83: =SUM(Q83:R83)-2 -> 6 | U83: =(Q83*(Q83-1)*(2*Q83-1)+R83*(R83+1)*(2*R83+1))/3+S83 -> 72 | V83: =D83-S83 -> 16 | W83: =W82+90/16 -> 2075.625 | X83: =MOD(W83,360) -> 275.625
B84: =MAX(TRUNC((W84+180)/360)-2,1) -> 4 | C84: 18 | D84: =U84-2 -> 71 | E84: Lu | F84: Lutetium | G84: 71p+104n+71e | I84: 6-5-18 | J84: 5-5-(15) | K84: 5-4-(15) | M84: 4-4-(15) | O84: 3-3-18 | P84: 4-3-(15) | Q84: 4 | R84: 4 | S84: -15 | T84: =SUM(Q84:R84)-2 -> 6 | U84: =(Q84*(Q84-1)*(2*Q84-1)+R84*(R84+1)*(2*R84+1))/3+S84 -> 73 | V84: =D84-S84 -> 86 | W84: =W82+90/16 -> 2075.625 | X84: =MOD(W84,360) -> 275.625
B85: =MAX(TRUNC((W85+180)/360)-2,1) -> 4 | C85: 19 | D85: =U85-2 -> 72 | E85: Hf | F85: Hafnium | G85: 72p+107n+72e | I85: 6-5-19 | J85: 5-5-(14) | K85: 5-4-(14) | M85: 4-4-(14) | O85: 3-3-19 | P85: 4-3-(14) | Q85: 4 | R85: 4 | S85: -14 | T85: =SUM(Q85:R85)-2 -> 6 | U85: =(Q85*(Q85-1)*(2*Q85-1)+R85*(R85+1)*(2*R85+1))/3+S85 -> 74 | V85: =D85-S85 -> 86 | W85: =W84+90/16 -> 2081.25 | X85: =MOD(W85,360) -> 281.25
B86: =MAX(TRUNC((W86+180)/360)-2,1) -> 4 | C86: 20 | D86: =U86-2 -> 73 | E86: Ta | F86: Tantalum | G86: 73p+108n+73e | I86: 6-5-20 | J86: 5-5-(13) | K86: 5-4-(13) | M86: 4-4-(13) | O86: 3-3-20 | P86: 4-3-(13) | Q86: 4 | R86: 4 | S86: -13 | T86: =SUM(Q86:R86)-2 -> 6 | U86: =(Q86*(Q86-1)*(2*Q86-1)+R86*(R86+1)*(2*R86+1))/3+S86 -> 75 | V86: =D86-S86 -> 86 | W86: =W85+90/16 -> 2086.875 | X86: =MOD(W86,360) -> 286.875
B87: =MAX(TRUNC((W87+180)/360)-2,1) -> 4 | C87: 21 | D87: =U87-2 -> 74 | E87: W | F87: Tungsten | G87: 74p+110n+74e | I87: 6-5-21 | J87: 5-5-(12) | K87: 5-4-(12) | M87: 4-4-(12) | O87: 3-3-21 | P87: 4-3-(12) | Q87: 4 | R87: 4 | S87: -12 | T87: =SUM(Q87:R87)-2 -> 6 | U87: =(Q87*(Q87-1)*(2*Q87-1)+R87*(R87+1)*(2*R87+1))/3+S87 -> 76 | V87: =D87-S87 -> 86 | W87: =W86+90/16 -> 2092.5 | X87: =MOD(W87,360) -> 292.5
B88: =MAX(TRUNC((W88+180)/360)-2,1) -> 4 | C88: 22 | D88: =U88-2 -> 75 | E88: Re | F88: Rhenium | G88: 75p+110n+75e | I88: 6-5-22 | J88: 5-5-(11) | K88: 5-4-(11) | M88: 4-4-(11) | O88: 3-3-22 | P88: 4-3-(11) | Q88: 4 | R88: 4 | S88: -11 | T88: =SUM(Q88:R88)-2 -> 6 | U88: =(Q88*(Q88-1)*(2*Q88-1)+R88*(R88+1)*(2*R88+1))/3+S88 -> 77 | V88: =D88-S88 -> 86 | W88: =W87+90/16 -> 2098.125 | X88: =MOD(W88,360) -> 298.125
B89: =MAX(TRUNC((W89+180)/360)-2,1) -> 4 | C89: 23 | D89: =U89-2 -> 76 | E89: Os | F89: Osmium | G89: 76p+114n+76e | I89: 6-5-23 | J89: 5-5-(10) | K89: 5-4-(10) | M89: 4-4-(10) | O89: 3-3-23 | P89: 4-3-(10) | Q89: 4 | R89: 4 | S89: -10 | T89: =SUM(Q89:R89)-2 -> 6 | U89: =(Q89*(Q89-1)*(2*Q89-1)+R89*(R89+1)*(2*R89+1))/3+S89 -> 78 | V89: =D89-S89 -> 86 | W89: =W88+90/16 -> 2103.75 | X89: =MOD(W89,360) -> 303.75
B90: =MAX(TRUNC((W90+180)/360)-2,1) -> 4 | C90: 24 | D90: =U90-2 -> 77 | E90: Ir | F90: Iridium | G90: 77p+115n+77e | I90: 6-5-24 | J90: 5-5-(9) | K90: 5-4-(9) | M90: 4-4-(9) | O90: 3-3-24 | P90: 4-3-(9) | Q90: 4 | R90: 4 | S90: -9 | T90: =SUM(Q90:R90)-2 -> 6 | U90: =(Q90*(Q90-1)*(2*Q90-1)+R90*(R90+1)*(2*R90+1))/3+S90 -> 79 | V90: =D90-S90 -> 86 | W90: =W89+90/16 -> 2109.375 | X90: =MOD(W90,360) -> 309.375
B91: =MAX(TRUNC((W91+180)/360)-2,1) -> 4 | C91: 25 | D91: =U91-2 -> 78 | E91: Pt | F91: Platinum | G91: 78p+117n+78e | I91: 6-5-25 | J91: 5-5-(8) | K91: 5-4-(8) | M91: 4-4-(8) | O91: 3-3-25 | P91: 4-3-(8) | Q91: 4 | R91: 4 | S91: -8 | T91: =SUM(Q91:R91)-2 -> 6 | U91: =(Q91*(Q91-1)*(2*Q91-1)+R91*(R91+1)*(2*R91+1))/3+S91 -> 80 | V91: =D91-S91 -> 86 | W91: =W90+90/16 -> 2115 | X91: =MOD(W91,360) -> 315
B92: =MAX(TRUNC((W92+180)/360)-2,1) -> 4 | C92: 26 | D92: =U92-2 -> 79 | E92: Au | F92: Gold | G92: 79p+118n+79e | I92: 6-5-26 | J92: 5-5-(7) | K92: 5-4-(7) | M92: 4-4-(7) | O92: 3-3-26 | P92: 4-3-(7) | Q92: 4 | R92: 4 | S92: -7 | T92: =SUM(Q92:R92)-2 -> 6 | U92: =(Q92*(Q92-1)*(2*Q92-1)+R92*(R92+1)*(2*R92+1))/3+S92 -> 81 | V92: =D92-S92 -> 86 | W92: =W91+90/16 -> 2120.625 | X92: =MOD(W92,360) -> 320.625
B93: =MAX(TRUNC((W93+180)/360)-2,1) -> 4 | C93: 27 | D93: =U93-2 -> 80 | E93: Hg | F93: Mercury | G93: 80p+121n+80e | I93: 6-5-27 | J93: 5-5-(6) | K93: 5-4-(6) | M93: 4-4-(6) | O93: 3-3-27 | P93: 4-3-(6) | Q93: 4 | R93: 4 | S93: -6 | T93: =SUM(Q93:R93)-2 -> 6 | U93: =(Q93*(Q93-1)*(2*Q93-1)+R93*(R93+1)*(2*R93+1))/3+S93 -> 82 | V93: =D93-S93 -> 86 | W93: =W92+90/16 -> 2126.25 | X93: =MOD(W93,360) -> 326.25
B94: =MAX(TRUNC((W94+180)/360)-2,1) -> 4 | C94: 28 | D94: =U94-2 -> 81 | E94: Tl | F94: Thallium | G94: 81p+124n+81e | I94: 6-5-28 | J94: 5-5-(5) | K94: 5-4-(5) | M94: 4-4-(5) | O94: 3-3-28 | P94: 4-3-(5) | Q94: 4 | R94: 4 | S94: -5 | T94: =SUM(Q94:R94)-2 -> 6 | U94: =(Q94*(Q94-1)*(2*Q94-1)+R94*(R94+1)*(2*R94+1))/3+S94 -> 83 | V94: =D94-S94 -> 86 | W94: =W93+90/16 -> 2131.875 | X94: =MOD(W94,360) -> 331.875
B95: =MAX(TRUNC((W95+180)/360)-2,1) -> 4 | C95: 29 | D95: =U95-2 -> 82 | E95: Pb | F95: Lead | G95: 82p+125n+82e | I95: 6-5-29 | J95: 5-5-(4) | K95: 5-4-(4) | M95: 4-4-(4) | O95: 3-3-29 | P95: 4-3-(4) | Q95: 4 | R95: 4 | S95: -4 | T95: =SUM(Q95:R95)-2 -> 6 | U95: =(Q95*(Q95-1)*(2*Q95-1)+R95*(R95+1)*(2*R95+1))/3+S95 -> 84 | V95: =D95-S95 -> 86 | W95: =W94+90/16 -> 2137.5 | X95: =MOD(W95,360) -> 337.5
B96: =MAX(TRUNC((W96+180)/360)-2,1) -> 4 | C96: 30 | D96: =U96-2 -> 83 | E96: Bi | F96: Bismuth | G96: 83p+126n+83e | I96: 6-5-30 | J96: 5-5-(3) | K96: 5-4-(3) | M96: 4-4-(3) | O96: 3-3-30 | P96: 4-3-(3) | Q96: 4 | R96: 4 | S96: -3 | T96: =SUM(Q96:R96)-2 -> 6 | U96: =(Q96*(Q96-1)*(2*Q96-1)+R96*(R96+1)*(2*R96+1))/3+S96 -> 85 | V96: =D96-S96 -> 86 | W96: =W95+90/16 -> 2143.125 | X96: =MOD(W96,360) -> 343.125
... B98: =MAX(TRUNC((W98+180)/360)-2,1) -> 4 | C98: 32 | D98: =U98-2 -> 85 | E98: At | F98: Astatine | G98: 85p+125n+85e | I98: 6-5-32 | J98: 5-5-(1) | K98: 5-4-(1) | M98: 4-4-(1) | O98: 3-3-32 | P98: 4-3-(1) | Q98: 4 | R98: 4 | S98: -1 | T98: =SUM(Q98:R98)-2 -> 6 | U98: =(Q98*(Q98-1)*(2*Q98-1)+R98*(R98+1)*(2*R98+1))/3+S98 -> 87 | V98: =D98-S98 -> 86 | W98: =W97+90/16 -> 2154.375 | X98: =MOD(W98,360) -> 354.375
B99: =MAX(TRUNC((W99+180)/360)-2,1) -> 4 | C99: 1 | D99: =U99-2 -> 86 | E99: Rn | F99: Radon | G99: 86p+136n+86e | I99: 6-6-1 | J99: 5-5-0 | K99: 5-4-0 | M99: 4-4-0 | O99: 4-3-0 | Q99: 4 | R99: 4 | S99: 0 | T99: =SUM(Q99:R99)-2 -> 6 | U99: =(Q99*(Q99-1)*(2*Q99-1)+R99*(R99+1)*(2*R99+1))/3+S99 -> 88 | V99: =D99-S99 -> 86 | W99: =W98+90/16 -> 2160 | X99: =MOD(W99,360) -> 0 | Y99: 7 | Z99: 14
B100: =MAX(TRUNC((W100+180)/360)-2,1) -> 4 | C100: 2 | D100: =U100-2 -> 87 | E100: Fr | F100: Francium | G100: 87p+136n+87e | I100: 6-6-2 | J100: 5-5-1 | K100: 5-4-1 | M100: 4-4-1 | O100: 4-3-1 | Q100: 4 | R100: 4 | S100: 1 | T100: =SUM(Q100:R100)-2 -> 6 | U100: =(Q100*(Q100-1)*(2*Q100-1)+R100*(R100+1)*(2*R100+1))/3+S100 -> 89 | V100: =D100-S100 -> 86 | W100: =W99+90/16 -> 2165.625 | X100: =MOD(W100,360) -> 5.625
B101: =MAX(TRUNC((W101+180)/360)-2,1) -> 4 | C101: 3 | D101: =U101-2 -> 88 | E101: Ra | F101: Radium | G101: 88p+138n+88e | I101: 6-6-3 | J101: 5-5-2 | K101: 5-4-2 | M101: 4-4-2 | O101: 4-3-2 | Q101: 4 | R101: 4 | S101: 2 | T101: =SUM(Q101:R101)-2 -> 6 | U101: =(Q101*(Q101-1)*(2*Q101-1)+R101*(R101+1)*(2*R101+1))/3+S101 -> 90 | V101: =D101-S101 -> 86 | W101: =W100+90/16 -> 2171.25 | X101: =MOD(W101,360) -> 11.25
B102: =MAX(TRUNC((W102+180)/360)-2,1) -> 4 | C102: 4 | D102: =U102-2 -> 89 | E102: Ac | F102: Actinium | G102: 89p+138n+89e | I102: 6-6-4 | J102: 5-5-3 | K102: 5-4-3 | M102: 4-4-3 | O102: 4-3-3 | Q102: 4 | R102: 4 | S102: 3 | T102: =SUM(Q102:R102)-2 -> 6 | U102: =(Q102*(Q102-1)*(2*Q102-1)+R102*(R102+1)*(2*R102+1))/3+S102 -> 91 | V102: =D102-S102 -> 86 | W102: =W101+90/16 -> 2176.875 | X102: =MOD(W102,360) -> 16.875
B103: =MAX(TRUNC((W103+180)/360)-2,1) -> 4 | C103: 5 | D103: =U103-2 -> 90 | E103: Th | F103: Thorium | G103: 90p+142n+90e | I103: 6-6-5 | J103: 5-5-4 | K103: 5-4-4 | M103: 4-4-4 | O103: 4-3-4 | Q103: 4 | R103: 4 | S103: 4 | T103: =SUM(Q103:R103)-2 -> 6 | U103: =(Q103*(Q103-1)*(2*Q103-1)+R103*(R103+1)*(2*R103+1))/3+S103 -> 92 | V103: =D103-S103 -> 86 | W103: =W102+90/16 -> 2182.5 | X103: =MOD(W103,360) -> 22.5
B104: =MAX(TRUNC((W104+180)/360)-2,1) -> 4 | C104: 6 | D104: =U104-2 -> 91 | E104: Pa | F104: Protactinium | G104: 91p+140n+91e | I104: 6-6-6 | J104: 5-5-5 | K104: 5-4-5 | M104: 4-4-5 | O104: 4-3-5 | Q104: 4 | R104: 4 | S104: 5 | T104: =SUM(Q104:R104)-2 -> 6 | U104: =(Q104*(Q104-1)*(2*Q104-1)+R104*(R104+1)*(2*R104+1))/3+S104 -> 93 | V104: =D104-S104 -> 86 | W104: =W103+90/16 -> 2188.125 | X104: =MOD(W104,360) -> 28.125
...

Sheet Particles-ARCHIVE
B1: Table 1: Subatomic Particles (single, double-rotating systems)
A2: Sector | B2: Symbol | C2: Particle / Anti-Particle | D2: Conventional | E2: RS/RS2 | F2: Dimensions | I2: Notational Systems | M2: Time Region | N2: TSR
F3: A | G3: B | H3: C | I3: Speed | J3: Displacement | K3: Subatomic | M3: Turn | N3: Shear Angle (°)
C6: Muon Antineutrino
C7: Electron Antineutrino | I7: (2)-1-1 | J7: (1)-(1)-0 | K7: (1)-0-0
A8: Cosmic → | B8: ̅H | C8: Antihydrogen | E8: ̅H = ̅p + ̅νe* | F8: -3 | G8: -3 | H8: 3 | I8: =IF(F8<0,"("&ABS(F8)&")-",F8&"-")&IF(G8<0,"("&ABS(G8)&")-",G8&"-")&IF(H8<0,"("&ABS(H8)&")",H8) -> (3)-(3)-3 | J8: (2)-(2)-2 | K8: (2)-(1)-2 | L8: (1½)-(1½)-2 | M8: =M10-90/1 -> -810 | N8: =MOD(M8,-360) -> -90
J9: (2)-(1)-0 | K9: (1)-(1)-0
B10: ̅p | C10: Particle Antiproton | F10: -2 | G10: -2 | H10: -2 | I10: =IF(F10<0,"("&ABS(F10)&")-",F10&"-")&IF(G10<0,"("&ABS(G10)&")-",G10&"-")&IF(H10<0,"("&ABS(H10)&")",H10) -> (2)-(2)-(2) | J10: (1)-(1)-(1) | K10: (1)-0-(1) | L10: (½)-(½)-(1) | M10: =M12-90/1 -> -720 | N10: =MOD(M10,-360) -> 0
I11: =IF(F11<0,"("&ABS(F11)&")-",F11&"-")&IF(G11<0,"("&ABS(G11)&")-",G11&"-")&IF(H11<0,"("&ABS(H11)&")",H11) -> -- | K11: (1)-(1)-0
B12: ̅νµ | C12: Muon Antineutrino | F12: -2 | G12: -2 | H12: 1 | I12: =IF(F12<0,"("&ABS(F12)&")-",F12&"-")&IF(G12<0,"("&ABS(G12)&")-",G12&"-")&IF(H12<0,"("&ABS(H12)&")",H12) -> (2)-(2)-1 | J12: (1)-(1)-0 | K12: (1)-0-0 | L12: (½)-(½)-0 | M12: =M13-90/1 -> -630 | N12: =MOD(M12,-360) -> -270
B13: ̅νe | C13: Electron Antineutrino | E13: ̅νe = ̅νµ + ̅e | F13: -2 | G13: -2 | H13: 2 | I13: =IF(F13<0,"("&ABS(F13)&")-",F13&"-")&IF(G13<0,"("&ABS(G13)&")-",G13&"-")&IF(H13<0,"("&ABS(H13)&")",H13) -> (2)-(2)-2 | J13: (1)-(1)-1 | K13: (1)-0-1 | L13: (½)-(½)-1 | M13: =M14-90/1 -> -540 | N13: =MOD(M13,-360) -> -180
B14: e-, β- | C14: Antipositron (Electron2) | D14: e | E14: rotating unit of space | F14: -2 | G14: 1 | H14: -1 | I14: =IF(F14<0,"("&ABS(F14)&")-",F14&"-")&IF(G14<0,"("&ABS(G14)&")-",G14&"-")&IF(H14<0,"("&ABS(H14)&")",H14) -> (2)-1-(1) | J14: (1)-0-(1) | K14: 0-0-(1) | M14: =M15-90/1 -> -450 | N14: =MOD(M14,-360) -> -90
B15: RB | C15: Antiphoton: circularly-polarized (CCW) | E15: ½ of 1-D RB | F15: -2 | G15: 1 | H15: 1 | I15: =IF(F15<0,"("&ABS(F15)&")-",F15&"-")&IF(G15<0,"("&ABS(G15)&")-",G15&"-")&IF(H15<0,"("&ABS(H15)&")",H15) -> (2)-1-1 | J15: (1)-0-0 combined | K15: 0-0-0 net | M15: =M16-90/1 -> -360 | N15: =MOD(M15,-360) -> 0 | P15: 1-D Rotational Base 1
B16: LV - | C16: Antiphoton: linearly-polarlized (-) | E16: direction rev in space | F16: -2 | G16: 1 | H16: 1 | I16: =IF(F16<0,"("&ABS(F16)&")-",F16&"-")&IF(G16<0,"("&ABS(G16)&")-",G16&"-")&IF(H16<0,"("&ABS(H16)&")",H16) -> (2)-1-1 | J16: 0-0-0 | K16: - | M16: =-M17-90/1 -> -270 | N16: =MOD(M16,-360) -> -270
A17: M/C boundary | B17: L+ | C17: Unit (+1) speed a.k.a. "speed of light" | E17: uniform motion | F17: 1 | G17: 1 | H17: 1 | I17: =IF(F17<0,"("&ABS(F17)&")-",F17&"-")&IF(G17<0,"("&ABS(G17)&")-",G17&"-")&IF(H17<0,"("&ABS(H17)&")",H17) -> 1-1-1 | J17: 0-0-0 | K17: - | M17: 180 | N17: =MOD(M17,360) -> 180
A19: ← Material | B19: LV - | C19: Photon: linearly-polarlized (+) | E19: direction rev in time | F19: 2 | G19: 1 | H19: 1 | I19: =IF(F19<0,"("&ABS(F19)&")-",F19&"-")&IF(G19<0,"("&ABS(G19)&")-",G19&"-")&IF(H19<0,"("&ABS(H19)&")",H19) -> 2-1-1 | J19: 0-0-0 | K19: - | M19: =M17+90/1 -> 270 | N19: =MOD(M19,360) -> 270
B20: RB | C20: Photon: circularly-polarized (CW) | E20: ½ of 1-D RB | F20: 2 | G20: 2 | H20: 1 | I20: =IF(F20<0,"("&ABS(F20)&")-",F20&"-")&IF(G20<0,"("&ABS(G20)&")-",G20&"-")&IF(H20<0,"("&ABS(H20)&")",H20) -> 2-2-1 | J20: 1-0-0 combined | K20: 0-0-0 net | M20: =M19+90/1 -> 360 | N20: =MOD(M20,360) -> 0
B21: e+, β+ | C21: Positron (antielectron) | D21: ̅e | E21: rotating unit of time | F21: 2 | G21: 1 | H21: 2 | I21: =IF(F21<0,"("&ABS(F21)&")-",F21&"-")&IF(G21<0,"("&ABS(G21)&")-",G21&"-")&IF(H21<0,"("&ABS(H21)&")",H21) -> 2-1-2 | J21: 1-0-1 | K21: 0-0-1 | M21: =M20+90/1 -> 450 | N21: =MOD(M21,360) -> 90
B22: νe | C22: Electron Neutrino3 | E22: νe = νµ + e- | F22: 2 | G22: 2 | H22: -1 | I22: =IF(F22<0,"("&ABS(F22)&")-",F22&"-")&IF(G22<0,"("&ABS(G22)&")-",G22&"-")&IF(H22<0,"("&ABS(H22)&")",H22) -> 2-2-(1) | J22: 1-1-(1) | K22: 1-0-(1) | L22: ½-½-(1) | M22: =M21+90/1 -> 540 | N22: =MOD(M22,360) -> 180
B23: νµ | C23: Muon Neutrino a.k.a. "massless neutron" | F23: 2 | G23: 2 | H23: 1 | I23: =IF(F23<0,"("&ABS(F23)&")-",F23&"-")&IF(G23<0,"("&ABS(G23)&")-",G23&"-")&IF(H23<0,"("&ABS(H23)&")",H23) -> 2-2-1 | J23: 1-1-0 | K23: 1-0-0 | L23: ½-½-0 | M23: =M22+90/1 -> 630 | N23: =MOD(M23,360) -> 270
B24: p+ | C24: Particle Proton | F24: 2 | G24: 2 | H24: 2 | I24: =IF(F24<0,"("&ABS(F24)&")-",F24&"-")&IF(G24<0,"("&ABS(G24)&")-",G24&"-")&IF(H24<0,"("&ABS(H24)&")",H24) -> 2-2-2 | J24: 1-1-1 | K24: 1-0-1 | L24: ½-½-1 | M24: =M23+90/1 -> 720 | N24: =MOD(M24,360) -> 0
I25: =IF(F25<0,"("&ABS(F25)&")-",F25&"-")&IF(G25<0,"("&ABS(G25)&")-",G25&"-")&IF(H25<0,"("&ABS(H25)&")",H25) -> -- | K25: 1-1-(1) | M25: =M24+90/1 -> 810 | N25: =MOD(M25,360) -> 90
B26: 2p+, H+ | C26: Hydrogen (Proton isotope) | D26: p+e | E26: H+ = p+ + νe* | F26: 3 | G26: 3 | H26: -2 | I26: =IF(F26<0,"("&ABS(F26)&")-",F26&"-")&IF(G26<0,"("&ABS(G26)&")-",G26&"-")&IF(H26<0,"("&ABS(H26)&")",H26) -> 3-3-(2) | J26: 2-2-(2) | K26: 2-1-(2) | L26: 1½-1½-(2) | M26: =M24+90/1 -> 810 | N26: =MOD(M26,360) -> 90
I27: =IF(F27<0,"("&ABS(F27)&")-",F27&"-")&IF(G27<0,"("&ABS(G27)&")-",G27&"-")&IF(H27<0,"("&ABS(H27)&")",H27) -> -- | J27: 2-1-0 | K27: 1-1-0 | M27: =M26+90/1 -> 900 | N27: =MOD(M27,360) -> 180
