Workbook

Sheet Geometry
A1: Geometric Relationships
A3: Region | B3: Type | C3: # Dimensions | D3: Minimum | F3: Maximum
A4: TSR | B4: Axial | C4: 3 | D4: 1-Axis | E4: 2-Plane | F4: 3-Volume
A5: TR | B5: Planar | C5: 3 | D5: 1/4-Hypervolume | E5: 1/3-Volume | F5: 1/2-Plane

Sheet TSR
A1: Time-Space Region Speed Ranges (maximum volume, 3 axes)
A3: Speed Range | C3: Units of Speed per Dimension
A4: 0 | B4: Unit motion | C4: 0 | D4: 0 | E4: 0
A5: 1-x | B5: Low | C5: 1 | D5: 0 | E5: 0
A6: 1 | C6: 1 | D6: 1 | E6: 0
A7: 2-x | B7: Intermediate | C7: 1 | D7: 1 | E7: 1
A8: 2 | C8: 2 | D8: 1 | E8: 1
A9: 3-x | B9: High | C9: 2 | D9: 2 | E9: 1
A10: +1 | B10: M/C boundary | C10: 2 | D10: 2 | E10: 2

Sheet TR
A1: Time Region Speed Ranges (minimum hypervolume, 4 planes)
A2: The Periodic Table
A4: Speed Range | B4: Atom | C4: Units of Speed per Dimension | G4: Time-Space Region | I4: Larson
C5: 1 | D5: 2 | E5: 3 | F5: 4 | G5: Rotational Depth | H5: i? | I5: A-B-C (Atomic) | J5: Scalar Units
A6: i1-x | B6: Deuteron (RB) | C6: 0 | D6: 0 | E6: 0 | F6: 0 | G6: 0 | H6: 0 | I6: 1-0-0 | J6: 1 | K6: =2*1^2 -> 2 | L6: = 2 x 12 | M6: "s" orbitals
B7: α particle | C7: 1 | D7: 0 | E7: 0 | F7: 0 | G7: 1 | H7: 2 | I7: 1-1-0 | J7: 2 | K7: =2*1^2 -> 2 | L7: = 2 x 12
A8: i2-x | B8: He | C8: 1 | D8: 1 | E8: 0 | F8: 0 | G8: 2 | H8: 4 | I8: 2-1-0 | J8: 3 | K8: =2*2^2 -> 8 | L8: = 2 x 22 | M8: "p" orbitals
B9: Ne | C9: 1 | D9: 1 | E9: 1 | F9: 0 | G9: 3 | H9: 6 | I9: 2-2-0 | J9: 4 | K9: =2*2^2 -> 8 | L9: = 2 x 22
A10: i3-x | B10: Ar | C10: 1 | D10: 1 | E10: 1 | F10: 1 | G10: 4 | H10: 8 | I10: 3-2-0 | J10: 5 | K10: =2*3^2 -> 18 | L10: = 2 x 32 | M10: "d" orbitals
B11: Kr | C11: 2 | D11: 1 | E11: 1 | F11: 1 | G11: 5 | H11: 10 | I11: 3-3-0 | J11: 6 | K11: =2*3^2 -> 18 | L11: = 2 x 32
A12: i4-x | B12: Xe | C12: 2 | D12: 2 | E12: 1 | F12: 1 | G12: 6 | H12: 12 | I12: 4-3-0 | J12: 7 | K12: =2*4^2 -> 32 | L12: = 2 x 42 | M12: "f" orbitals
B13: Rn | C13: 2 | D13: 2 | E13: 2 | F13: 1 | G13: 7 | H13: 14 | I13: 4-4-0 | J13: 8 | K13: =2*4^2 -> 32 | L13: = 2 x 42
A14: -1 | B14: T/S boundary | C14: 2 | D14: 2 | E14: 2 | F14: 2 | G14: 8 | H14: 16 | I14: 5-4-0 | J14: 9

Sheet Rotations
A1: Possibilities in Multi-Dimensional Spaces
A3: No. of Dimensions | B3: 1-D Rotation NOTE 1 | C3: 2-D Rotation NOTE 1 | D3: Unbounded Lines | E3: Unbounded Areas | F3: Unbounded Volumes | G3: Unbounded Hyper-volume
A4: 1 | B4: 1 NOTE 2 | C4: 0 | D4: 1 | E4: 0 | F4: 0 | G4: 0
A5: 2 | B5: 3 NOTE 3 | C5: 1 NOTE 4 | D5: ∞ | E5: 1 | F5: 0 | G5: 0
A6: 3 | B6: 3 | C6: 1 NOTE 5 | D6: ∞ | E6: ∞ | F6: 1 | G6: 0
A7: 4 | B7: 4 | C7: 2 NOTE 6 | D7: ∞ | E7: ∞ | F7: ∞ | G7: 1
A9: NOTE 1 Number of Orthogonal Rotations (neither rotation has a component along the axis of the other)
A10: NOTE 2 For a one-dimensional system, only one possible rotation is the rotation of the axis itself, provided it has a zero-radius. A non-zero radius cannot be expressed as there are no other axes for the generated area.
A11: NOTE 3 For a two-dimensional system (x, y) there are three (3) possible rotations: the two (2) zero-radius rotations of x and y axes, and rotation about a point (typically the origin), with unbounded radius (0-∞), in the X-Y plane. An axis of rotation is typically needed to determine the area of the plane to be swept but since there is only one area possible, it is not ambiguous and all that is required is a point marking the center of rotation.
A12: NOTE 4 For a two-dimensional system, double-rotation is possible if at least one of the radii is zero: either two (2) zero-radii rotations about the intersection of each axis, or a non-zero radius about a point with a zero-radius about an axis passing through that point.
A13: NOTE 5 If x, y, z are the three (3) axes, there are in actuality three two-dimensional rotations -- (1) x & y, (2) y & x, and (3) z & x -- but each has a component along the others. Therefore only one (1) exclusive two-dimensional rotation is possible, but can be zero-radius or unbounded radius (0-∞) in the single plane of rotation.
A14: NOTE 6 Suppose the four (4) axes are w, x, y and z, and one two-dimensional rotation utilizes axes w & y; then another two-dimensional rotation, utilizing axes x & z, neither has any component along the other. Therefore two (2) two-dimensional rotations are possible.

Sheet ES
A1: Calculation of Equivalent Speeds (ES)
A3: R1 (TSR) | B3: R (TR) | C3: R2 | D3: Cumulative Total (CT) | E3: ES = CT-1
A4: -1 | B4: =ABS(A4)-1 -> 0 | C4: =B4^2 -> 0 | D4: =SUM(C4) -> 0 | E4: =D4-1 -> -1
A5: 1 | B5: =0-A5 -> -1 | C5: =B5^2 -> 1 | D5: =SUM(C4:C5) -> 1 | E5: =D5-1 -> 0
A6: -2 | B6: =ABS(A6)-1 -> 1 | C6: =B6^2 -> 1 | D6: =SUM(C4:C6) -> 2 | E6: =D6-1 -> 1
A7: 2 | B7: =0-A7 -> -2 | C7: =B7^2 -> 4 | D7: =SUM(C4:C7) -> 6 | E7: =D7-1 -> 5
A8: -3 | B8: =ABS(A8)-1 -> 2 | C8: =B8^2 -> 4 | D8: =SUM(C4:C8) -> 10 | E8: =D8-1 -> 9
A9: 3 | B9: =0-A9 -> -3 | C9: =B9^2 -> 9 | D9: =SUM(C4:C9) -> 19 | E9: =D9-1 -> 18
A10: -4 | B10: =ABS(A10)-1 -> 3 | C10: =B10^2 -> 9 | D10: =SUM(C4:C10) -> 28 | E10: =D10-1 -> 27
A11: 4 | B11: =0-A11 -> -4 | C11: =B11^2 -> 16 | D11: =SUM(C4:C11) -> 44 | E11: =D11-1 -> 43
A12: -5 | B12: =ABS(A12)-1 -> 4 | C12: =B12^2 -> 16 | D12: =SUM(C4:C12) -> 60 | E12: =D12-1 -> 59
A14: Equivalent Speeds of Systems with r3=0
A16: System | B16: R1 | C16: R2 | D16: r3 | E16: R1:R2:r3 | F16: Total ES
A17: SRB | B17: -1 | C17: 0 | D17: 0 | E17: -1: 0: 0 | F17: =E4 -> -1
A18: DRB-1 | B18: -1 | C18: -1 | D18: 0 | E18: -1: -1: 0 | F18: =E4+E4 -> -2
A19: DRB-2 | B19: 1 | C19: -1 | D19: 0 | E19: 1: -1: 0 | F19: =E5+E4 -> -1
A20: DRB-3 | B20: 1 | C20: 1 | D20: 0 | E20: 1: 1: 0 | F20: =E5+E5 -> 0
A21: DRB-4 | B21: -2 | C21: 1 | D21: 0 | E21: -2: 1: 0 | F21: =E6+E5 -> 1 | G21: 1
A22: He | B22: -2 | C22: -2 | D22: 0 | E22: -2: -2: 0 | F22: =E6+E6 -> 2 | G22: 2
A23: Ne | B23: 2 | C23: 2 | D23: 0 | E23: 2: 2: 0 | F23: =E7+E7 -> 10 | G23: 3
A24: Ar | B24: -3 | C24: -3 | D24: 0 | E24: -3: -3: 0 | F24: =E8+E8 -> 18 | G24: 4
A25: Kr | B25: 3 | C25: 3 | D25: 0 | E25: 3: 3: 0 | F25: =E9+E9 -> 36 | G25: 5
A26: Xe | B26: -4 | C26: -4 | D26: 0 | E26: -4: -4: 0 | F26: =E10+E10 -> 54 | G26: 6
A27: Rn | B27: 4 | C27: 4 | D27: 0 | E27: 4: 4: 0 | F27: =E11+E11 -> 86 | G27: 7
A28: Unstable (Og) | B28: -5 | C28: -5 | D28: 0 | E28: -5: -5: 0 | F28: =E12+E12 -> 118 | G28: 8

Sheet Identifications
A1: Table 3: Subatomic Particles (single, double-rotating systems) and Atoms (double, double-rotating systems)
B2: Atom # | D2: Symbol | E2: Particle / Element | H2: Double Rotating | J2: Single Rotating | K2: Linear | L2: Notation | M2: Time Region | N2: Time-Space Region | Q2: Notes
B3: count | C3: Net ES | H3: R1 turn | I3: R2 turn | J3: r3 turn | K3: shift
C4: Z | F4: Conventional | G4: RS/RS2 | H4: a1 | I4: a2 | J4: c | K4: d | L4: R1: R2: r3 | M4: Turn | N4: Shear Angle (deg) | O4: Rotational Depth | P4: i?
A5: SRB | B5: - | C5: =VLOOKUP($H5,ES!$A$4:$E$12,5,FALSE)+IF($I5<>0,VLOOKUP($I5,ES!$A$4:$E$12,5,FALSE))+$J5 -> -1 | D5: e−, β− | E5: Antipositron (Electron) | F5: e | H5: -1 | I5: 0 | J5: 0 | K5: - | L5: =H5&": "&I5&": "&J5 -> -1: 0: 0 | Q5: rotating unit of space
B6: - | C6: =VLOOKUP($H6,ES!$A$4:$E$12,5,FALSE)+IF($I6<>0,VLOOKUP($I6,ES!$A$4:$E$12,5,FALSE))+$J6 -> -1 | D6: *e− | E6: Charged Electron | F6: not recognized | H6: -1 | I6: 0 | J6: 0 | K6: 2 | L6: =H6&": "&I6&": "&J6 -> -1: 0: 0 | M6: =-M7-90 -> -270 | N6: =MOD(M6,360) -> 90 | Q6: electrical charge is LV of captured photon
B7: - | C7: =VLOOKUP($H7,ES!$A$4:$E$12,5,FALSE)+IF($I7<>0,VLOOKUP($I7,ES!$A$4:$E$12,5,FALSE))+$J7 -> 0 | E7: Uniform Motion | F7: not recognized | H7: -1 | I7: 0 | J7: 1 | K7: - | L7: =H7&": "&I7&": "&J7 -> -1: 0: 1 | M7: 180 | N7: =MOD(M7,360) -> 180 | Q7: Rotational Base (RB) of subatoms [s = ±½ħ]
B8: - | C8: =VLOOKUP($H8,ES!$A$4:$E$12,5,FALSE)+IF($I8<>0,VLOOKUP($I8,ES!$A$4:$E$12,5,FALSE))+$J8 -> 1 | D8: e+, β+ | E8: Positron | H8: -1 | I8: 0 | J8: 2 | K8: - | L8: =H8&": "&I8&": "&J8 -> -1: 0: 2 | M8: =M7+90/1 -> 270 | N8: =MOD(M8,360) -> 270 | Q8: rotating unit of time
B9: - | C9: =VLOOKUP($H9,ES!$A$4:$E$12,5,FALSE)+IF($I9<>0,VLOOKUP($I9,ES!$A$4:$E$12,5,FALSE))+$J9 -> 1 | D9: *e+ | E9: Charged Positron | F9: not recognized | H9: -1 | I9: 0 | J9: 2 | K9: 2 | L9: =H9&": "&I9&": "&J9 -> -1: 0: 2 | N9: =MOD(M9,360) -> 0 | Q9: electrical charge is LV of captured photon
A10: DRB-1 | B10: - | C10: =VLOOKUP($H10,ES!$A$4:$E$12,5,FALSE)+IF($I10<>0,VLOOKUP($I10,ES!$A$4:$E$12,5,FALSE))+$J10 -> -1 | D10: γCCW | E10: CCW Photon? | H10: -1 | I10: -1 | J10: 1 | K10: - | L10: =H10&": "&I10&": "&J10 -> -1: -1: 1 | N10: =MOD(M10,360) -> 0 | Q10: circularly-polarized
B11: - | C11: =VLOOKUP($H11,ES!$A$4:$E$12,5,FALSE)+IF($I11<>0,VLOOKUP($I11,ES!$A$4:$E$12,5,FALSE))+$J11 -> 0 | D11: p+ | E11: Particle Proton? | F11: not recognized | H11: -1 | I11: -1 | J11: 2 | K11: - | L11: =H11&": "&I11&": "&J11 -> -1: -1: 2 | N11: =MOD(M11,360) -> 0
B12: - | C12: =VLOOKUP($H12,ES!$A$4:$E$12,5,FALSE)+IF($I12<>0,VLOOKUP($I12,ES!$A$4:$E$12,5,FALSE))+$J12 -> 1 | D12: γCW | E12: CW Photon? | H12: -1 | I12: -1 | J12: 3 | K12: - | L12: =H12&": "&I12&": "&J12 -> -1: -1: 3 | N12: =MOD(M12,360) -> 0 | Q12: circularly-polarized
A13: DRB-2 | B13: - | C13: =VLOOKUP($H13,ES!$A$4:$E$12,5,FALSE)+IF($I13<>0,VLOOKUP($I13,ES!$A$4:$E$12,5,FALSE))+$J13+$K13 -> 0 | D13: γ | E13: Photon | H13: 1 | I13: -1 | J13: 0 | K13: 1 | L13: =H13&": "&I13&": "&J13 -> 1: -1: 0 | N13: =MOD(M13,360) -> 0 | Q13: no net displacement, linear-polarized
B14: - | C14: =VLOOKUP($H14,ES!$A$4:$E$12,5,FALSE)+IF($I14<>0,VLOOKUP($I14,ES!$A$4:$E$12,5,FALSE))+$J14 -> 0 | D14: νµ | E14: Muon Neutrino | H14: 1 | I14: -1 | J14: 1 | K14: - | L14: =H14&": "&I14&": "&J14 -> 1: -1: 1 | N14: =MOD(M14,360) -> 0 | Q14: no net displacement, previously known as a "massless neutron"
B15: - | C15: =VLOOKUP($H15,ES!$A$4:$E$12,5,FALSE)+IF($I15<>0,VLOOKUP($I15,ES!$A$4:$E$12,5,FALSE))+$J15 -> 0 | D15: *νµ | E15: Charged Muon Neutrino | F15: not recognized | H15: 1 | I15: -1 | J15: 1 | K15: 2 | L15: =H15&": "&I15&": "&J15 -> 1: -1: 1 | N15: =MOD(M15,360) -> 0 | Q15: electrical charge is LV of captured photon
B16: - | C16: =VLOOKUP($H16,ES!$A$4:$E$12,5,FALSE)+IF($I16<>0,VLOOKUP($I16,ES!$A$4:$E$12,5,FALSE))+$J16 -> 1 | D16: ντ | E16: Tau Neutrino | H16: 1 | I16: -1 | J16: 2 | K16: - | L16: =H16&": "&I16&": "&J16 -> 1: -1: 2 | N16: =MOD(M16,360) -> 0
A17: DRB-3 | B17: - | C17: =VLOOKUP($H17,ES!$A$4:$E$12,5,FALSE)+IF($I17<>0,VLOOKUP($I17,ES!$A$4:$E$12,5,FALSE))+$J17 -> -1 | D17: νe | E17: Electron Neutrino | G17: νe = νµ + e- | H17: 1 | I17: 1 | J17: -1 | K17: - | L17: =H17&": "&I17&": "&J17 -> 1: 1: -1 | N17: =MOD(M17,360) -> 0
B18: - | C18: =VLOOKUP($H18,ES!$A$4:$E$12,5,FALSE)+IF($I18<>0,VLOOKUP($I18,ES!$A$4:$E$12,5,FALSE))+$J18 -> -1 | D18: *νe | E18: Charged Electron Neutrino | F18: not recognized | H18: 1 | I18: 1 | J18: -1 | K18: 2 | L18: =H18&": "&I18&": "&J18 -> 1: 1: -1 | N18: =MOD(M18,360) -> 0 | Q18: electrical charge is LV of captured photon; adds isotopic mass when captured by rotating systems (subatoms, atoms)
B19: - | C19: =VLOOKUP($H19,ES!$A$4:$E$12,5,FALSE)+IF($I19<>0,VLOOKUP($I19,ES!$A$4:$E$12,5,FALSE))+$J19 -> 0 | D19: no | E19: Compound Neutron | F19: n | G19: no = 2(νµ) | H19: 1 | I19: 1 | J19: 0 | K19: - | L19: =H19&": "&I19&": "&J19 -> 1: 1: 0 | N19: =MOD(M19,360) -> 0
B20: - | C20: =VLOOKUP($H20,ES!$A$4:$E$12,5,FALSE)+IF($I20<>0,VLOOKUP($I20,ES!$A$4:$E$12,5,FALSE))+$J20 -> 1 | D20: p2 | E20: Atomic Proton | F20: p | G20: p+ + p+ = p2 | H20: 1 | I20: 1 | J20: 1 | K20: - | L20: =H20&": "&I20&": "&J20 -> 1: 1: 1 | N20: =MOD(M20,360) -> 0
B21: - | C21: =VLOOKUP($H21,ES!$A$4:$E$12,5,FALSE)+IF($I21<>0,VLOOKUP($I21,ES!$A$4:$E$12,5,FALSE))+$J21 -> 1 | D21: *p+ | E21: Charged Atomic Proton | F21: not recognized | H21: 1 | I21: 1 | J21: 1 | K21: 2 | L21: =H21&": "&I21&": "&J21 -> 1: 1: 1 | N21: =MOD(M21,360) -> 0 | Q21: electrical charge is LV of captured photon
A22: DRB-4: Hydrogen Group ("s" shell) | B22: 1 | C22: =VLOOKUP($H22,ES!$A$4:$E$12,5,FALSE)+IF($I22<>0,VLOOKUP($I22,ES!$A$4:$E$12,5,FALSE))+$J22 -> -1 | D22: H1 | E22: Hydrogen | F22: p+e | G22: H = p+ + ve + e- | H22: -2 | I22: 1 | J22: -2 | K22: - | L22: =H22&": "&I22&": "&J22 -> -2: 1: -2 | N22: =MOD(M22,360) -> 0 | O22: 0 | P22: =2*N22 -> 0 | Q22: subatomic
B23: 2 | C23: =VLOOKUP($H23,ES!$A$4:$E$12,5,FALSE)+IF($I23<>0,VLOOKUP($I23,ES!$A$4:$E$12,5,FALSE))+$J23 -> 0 | D23: D+ | E23: Dueteron | F23: p+n | G23: 1-D RB | H23: -2 | I23: 1 | J23: -1 | K23: - | L23: =H23&": "&I23&": "&J23 -> -2: 1: -1 | N23: =MOD(M23,360) -> 0 | Q23: Nehru's Double Rotational Base, Larson's Rotational Base
B24: 1 | C24: =VLOOKUP($H24,ES!$A$4:$E$12,5,FALSE)+IF($I24<>0,VLOOKUP($I24,ES!$A$4:$E$12,5,FALSE))+$J24 -> 1 | D24: D, 2H | E24: Dueterium | F24: p+n+e | H24: -2 | I24: 1 | J24: 0 | K24: - | L24: =H24&": "&I24&": "&J24 -> -2: 1: 0 | N24: =MOD(M24,360) -> 0 | O24: 1 | P24: =2*N24 -> 0 | Q24: first isotope of Hydrogen (captures a charged electron neutrino to add mass)
B25: 2 | C25: =VLOOKUP($H25,ES!$A$4:$E$12,5,FALSE)+IF($I25<>0,VLOOKUP($I25,ES!$A$4:$E$12,5,FALSE))+$J25 -> 1 | D25: α2+ | E25: Alpha Particle | F25: 2p+2n | G25: 2-D RB | H25: -2 | I25: -2 | J25: -1 | K25: - | L25: =H25&": "&I25&": "&J25 -> -2: -2: -1 | N25: =MOD(M25,360) -> 0 | Q25: Double RB of atoms, Larson's Double Rotational Base
A26: Lower Atomic Group ("p" shell) | B26: 1 | C26: =VLOOKUP($H26,ES!$A$4:$E$12,5,FALSE)+IF($I26<>0,VLOOKUP($I26,ES!$A$4:$E$12,5,FALSE))+$J26 -> 2 | D26: He2 | E26: Helium | F26: 2p+2n+2e | H26: -2 | I26: -2 | J26: 0 | K26: - | L26: =H26&": "&I26&": "&J26 -> -2: -2: 0 | N26: =MOD(M26,360) -> 0 | O26: 2 | P26: =2*N26 -> 0 | Q26: first atomic structure; Noble gas (R1=R2; r3=0)
B27: 2 | C27: =VLOOKUP($H27,ES!$A$4:$E$12,5,FALSE)+IF($I27<>0,VLOOKUP($I27,ES!$A$4:$E$12,5,FALSE))+$J27 -> 3 | D27: Li3 | E27: Lithium | F27: 3p+4n+3e | H27: -2 | I27: -2 | J27: 1 | K27: - | L27: =H27&": "&I27&": "&J27 -> -2: -2: 1 | N27: =MOD(M27,360) -> 0
B28: 3 | C28: =VLOOKUP($H28,ES!$A$4:$E$12,5,FALSE)+IF($I28<>0,VLOOKUP($I28,ES!$A$4:$E$12,5,FALSE))+$J28 -> 4 | D28: Be4 | E28: Beryllium | F28: 4p+5n+4e | H28: -2 | I28: -2 | J28: 2 | K28: - | L28: =H28&": "&I28&": "&J28 -> -2: -2: 2 | N28: =MOD(M28,360) -> 0
B29: 4 | C29: =VLOOKUP($H29,ES!$A$4:$E$12,5,FALSE)+IF($I29<>0,VLOOKUP($I29,ES!$A$4:$E$12,5,FALSE))+$J29 -> 5 | D29: B5 | E29: Boron | F29: 5p+6n+5e | H29: -2 | I29: -2 | J29: 3 | K29: - | L29: =H29&": "&I29&": "&J29 -> -2: -2: 3 | N29: =MOD(M29,360) -> 0
B30: 5 | C30: =VLOOKUP($H30,ES!$A$4:$E$12,5,FALSE)+IF($I30<>0,VLOOKUP($I30,ES!$A$4:$E$12,5,FALSE))+$J30 -> 6 | D30: C6 | E30: Carbon | F30: 6p+6n+6e | H30: -2 | I30: -2 | J30: 4 | K30: - | L30: =H30&": "&I30&": "&J30 -> -2: -2: 4 | N30: =MOD(M30,360) -> 0 | Q30: Alternate = 2: -2: 0
C31: =VLOOKUP($H31,ES!$A$4:$E$12,5,FALSE)+IF($I31<>0,VLOOKUP($I31,ES!$A$4:$E$12,5,FALSE))+$J31 -> 6 | H31: 2 | I31: 2 | J31: -4 | L31: =H31&": "&I31&": "&J31 -> 2: 2: -4 | N31: =MOD(M31,360) -> 0
B32: 6 | C32: =VLOOKUP($H32,ES!$A$4:$E$12,5,FALSE)+IF($I32<>0,VLOOKUP($I32,ES!$A$4:$E$12,5,FALSE))+$J32 -> 7 | D32: N7 | E32: Nitrogen | F32: 7p+7n+7e | H32: 2 | I32: 2 | J32: -3 | K32: - | L32: =H32&": "&I32&": "&J32 -> 2: 2: -3 | N32: =MOD(M32,360) -> 0
B33: 7 | C33: =VLOOKUP($H33,ES!$A$4:$E$12,5,FALSE)+IF($I33<>0,VLOOKUP($I33,ES!$A$4:$E$12,5,FALSE))+$J33 -> 8 | D33: O8 | E33: Oxygen | F33: 8p+8n+8e | H33: 2 | I33: 2 | J33: -2 | K33: - | L33: =H33&": "&I33&": "&J33 -> 2: 2: -2 | N33: =MOD(M33,360) -> 0
B34: 8 | C34: =VLOOKUP($H34,ES!$A$4:$E$12,5,FALSE)+IF($I34<>0,VLOOKUP($I34,ES!$A$4:$E$12,5,FALSE))+$J34 -> 9 | D34: F9 | E34: Fluorine | F34: 9p+10n+9e | H34: 2 | I34: 2 | J34: -1 | K34: - | L34: =H34&": "&I34&": "&J34 -> 2: 2: -1 | N34: =MOD(M34,360) -> 0
B35: 1 | C35: =VLOOKUP($H35,ES!$A$4:$E$12,5,FALSE)+IF($I35<>0,VLOOKUP($I35,ES!$A$4:$E$12,5,FALSE))+$J35 -> 10 | D35: Ne10 | E35: Neon | F35: 10p+10n+10e | H35: 2 | I35: 2 | J35: 0 | K35: - | L35: =H35&": "&I35&": "&J35 -> 2: 2: 0 | N35: =MOD(M35,360) -> 0 | O35: 3 | P35: =2*N35 -> 0 | Q35: Noble gas (R1=R2; r3=0)
B36: 2 | C36: =VLOOKUP($H36,ES!$A$4:$E$12,5,FALSE)+IF($I36<>0,VLOOKUP($I36,ES!$A$4:$E$12,5,FALSE))+$J36 -> 11 | D36: Na11 | E36: Sodium | F36: 11p+12n+11e | H36: 2 | I36: 2 | J36: 1 | K36: - | L36: =H36&": "&I36&": "&J36 -> 2: 2: 1 | N36: =MOD(M36,360) -> 0
B37: 3 | C37: =VLOOKUP($H37,ES!$A$4:$E$12,5,FALSE)+IF($I37<>0,VLOOKUP($I37,ES!$A$4:$E$12,5,FALSE))+$J37 -> 12 | D37: Mg12 | E37: Magnesium | F37: 12p+12n+12e | H37: 2 | I37: 2 | J37: 2 | K37: - | L37: =H37&": "&I37&": "&J37 -> 2: 2: 2 | N37: =MOD(M37,360) -> 0
B38: 4 | C38: =VLOOKUP($H38,ES!$A$4:$E$12,5,FALSE)+IF($I38<>0,VLOOKUP($I38,ES!$A$4:$E$12,5,FALSE))+$J38 -> 13 | D38: Al13 | E38: Aluminum | F38: 13p+14n+13e | H38: 2 | I38: 2 | J38: 3 | K38: - | L38: =H38&": "&I38&": "&J38 -> 2: 2: 3 | N38: =MOD(M38,360) -> 0
B39: 5 | C39: =VLOOKUP($H39,ES!$A$4:$E$12,5,FALSE)+IF($I39<>0,VLOOKUP($I39,ES!$A$4:$E$12,5,FALSE))+$J39 -> 14 | D39: Si14 | E39: Silicon | F39: 14p+14n+14e | H39: 2 | I39: 2 | J39: 4 | K39: - | L39: =H39&": "&I39&": "&J39 -> 2: 2: 4 | N39: =MOD(M39,360) -> 0 | Q39: Alternate: -3: 2: 0
C40: =VLOOKUP($H40,ES!$A$4:$E$12,5,FALSE)+IF($I40<>0,VLOOKUP($I40,ES!$A$4:$E$12,5,FALSE))+$J40 -> 14 | H40: -3 | I40: -3 | J40: -4 | L40: =H40&": "&I40&": "&J40 -> -3: -3: -4 | N40: =MOD(M40,360) -> 0
...

Sheet Atoms-ARCHIVE
C1: Table 2: Atoms (double, double-rotating systems)
B2: TR Speed Range | C2: Atom # | E2: Symbol | F2: Particle / Element | G2: Conventional | H2: RS/RS2 | I2: Notational Systems | Q2: Dimensions (Atomic) | U2: net4 | V2: Z-c | W2: Time Region | X2: Time-Space Region
C3: count | D3: Z | I3: Speed | J3: Displacement | K3: Subatomic | M3: Atomic | O3: Chemical5 | Q3: A | R3: B | S3: C | T3: Scalar Units | U3: Δt | W3: Turn | X3: Shear Angle (°) | Y3: Rotational Depth | Z3: i?
A4: Hydrogen Group | B4: =MAX(TRUNC((W4+180)/360)-2,1) -> 1 | C4: 1 | D4: =U4-2 -> -2 | E4: no | F4: Neutron | G4: n | H4: no = 2(νµ) | I4: 3-2-1 | J4: 2-1-0 | K4: 1-1-0 | M4: 1-0-0 | N4: ½-½-0 | O4: 0-0-0 | Q4: 1 | R4: 0 | S4: 0 | T4: =SUM(Q4:R4)-2 -> -1 | U4: =(Q4*(Q4-1)*(2*Q4-1)+R4*(R4+1)*(2*R4+1))/3+S4 -> 0 | V4: =D4-S4 -> -2 | W4: ='Particles-ARCHIVE'!M26+90/1 -> 900 | X4: =MOD(W4,360) -> 180 | Y4: 0 | Z4: 0
B5: =MAX(TRUNC((W5+180)/360)-2,1) -> 1 | C5: 2 | D5: =U5-2 -> -1 | E5: p2 | F5: Atomic Proton6 | G5: p | H5: p+ + p+ = p2 | I5: 3-2-2 | J5: 2-1-1 | K5: 1-1-1 | M5: 1-0-1 | N5: ½-½-1 | O5: 0-0-1 | Q5: 1 | R5: 0 | S5: 1 | T5: =SUM(Q5:R5)-2 -> -1 | U5: =(Q5*(Q5-1)*(2*Q5-1)+R5*(R5+1)*(2*R5+1))/3+S5 -> 1 | V5: =D5-S5 -> -2 | W5: =W4+90/1 -> 990 | X5: =MOD(W5,360) -> 270
B6: =MAX(TRUNC((W6+180)/360)-2,1) -> 1 | J6: 2-2-(1) | K6: 2-1-(1) | L6: 1½-1½-(1) | M6: 1-1-(1) | O6: 1-0-(1) | P6: ½-½-(1) | Q6: 1 | R6: 1 | S6: -1 | T6: =SUM(Q6:R6)-2 -> 0 | U6: =(Q6*(Q6-1)*(2*Q6-1)+R6*(R6+1)*(2*R6+1))/3+S6 -> 1 | V6: =D6-S6 -> 1 | X6: =MOD(W6,360) -> 0
B7: =MAX(TRUNC((W7+180)/360)-2,1) -> 1 | C7: 1 | D7: =U7-2 -> 0 | E7: D+ | F7: Dueteron | G7: p+n | H7: 2-D RB | I7: 3-3-1 | J7: 2-2-0 | K7: 2-1-0 | L7: 1½-1½-0 | M7: 1-1-0 | O7: 1-0-0 | P7: ½-½-0 | Q7: 1 | R7: 1 | S7: 0 | T7: =SUM(Q7:R7)-2 -> 0 | U7: =(Q7*(Q7-1)*(2*Q7-1)+R7*(R7+1)*(2*R7+1))/3+S7 -> 2 | V7: =D7-S7 -> 0 | W7: =W5+90/1 -> 1080 | X7: =MOD(W7,360) -> 0 | Y7: 1 | Z7: 2
B8: =MAX(TRUNC((W8+180)/360)-2,1) -> 1 | C8: 2 | D8: =U8-2 -> 1 | E8: D | F8: Dueterium7 (confused for Hydrogen) | G8: p+n+e | H8: D = H+ + νe* | I8: 3-3-2 | J8: 2-2-1 | K8: 2-1-1 | L8: 1½-1½-1 | M8: 1-1-1 | O8: 1-0-1 | P8: ½-½-1 | Q8: 1 | R8: 1 | S8: 1 | T8: =SUM(Q8:R8)-2 -> 0 | U8: =(Q8*(Q8-1)*(2*Q8-1)+R8*(R8+1)*(2*R8+1))/3+S8 -> 3 | V8: =D8-S8 -> 0 | W8: =W7+90/1 -> 1170 | X8: =MOD(W8,360) -> 90
B9: =MAX(TRUNC((W9+180)/360)-2,1) -> 1 | J9: 3-2-(1) | K9: 2-2-(1) | M9: 2-1-(1) | O9: 1-1-(1) | Q9: 2 | R9: 1 | S9: -1 | T9: =SUM(Q9:R9)-2 -> 1 | U9: =(Q9*(Q9-1)*(2*Q9-1)+R9*(R9+1)*(2*R9+1))/3+S9 -> 3 | V9: =D9-S9 -> 1 | W9: =W7+90 -> 1170 | X9: =MOD(W9,360) -> 90
A10: Lower Atomic Group | B10: =MAX(TRUNC((W10+180)/360)-2,1) -> 2 | C10: 1 | D10: =U10-2 -> 2 | E10: He | F10: Helium | G10: 2p+2n+2e | I10: 4-3-1 | J10: 3-2-0 | K10: 2-2-0 | M10: 2-1-0 | O10: 1-1-0 | Q10: 2 | R10: 1 | S10: 0 | T10: =SUM(Q10:R10)-2 -> 1 | U10: =(Q10*(Q10-1)*(2*Q10-1)+R10*(R10+1)*(2*R10+1))/3+S10 -> 4 | V10: =D10-S10 -> 2 | W10: =W8+90/1 -> 1260 | X10: =MOD(W10,360) -> 180 | Y10: 2 | Z10: 4
B11: =MAX(TRUNC((W11+180)/360)-2,1) -> 2 | C11: 2 | D11: =U11-2 -> 3 | E11: Li | F11: Lithium | G11: 3p+4n+3e | I11: 4-3-2 | J11: 3-2-1 | K11: 2-2-1 | M11: 2-1-1 | O11: 1-1-1 | Q11: 2 | R11: 1 | S11: 1 | T11: =SUM(Q11:R11)-2 -> 1 | U11: =(Q11*(Q11-1)*(2*Q11-1)+R11*(R11+1)*(2*R11+1))/3+S11 -> 5 | V11: =D11-S11 -> 2 | W11: =W10+90/4 -> 1282.5 | X11: =MOD(W11,360) -> 202.5
B12: =MAX(TRUNC((W12+180)/360)-2,1) -> 2 | C12: 3 | D12: =U12-2 -> 4 | E12: Be | F12: Beryllium | G12: 4p+5n+4e | I12: 4-3-3 | J12: 3-2-2 | K12: 2-2-2 | M12: 2-1-2 | O12: 1-1-2 | Q12: 2 | R12: 1 | S12: 2 | T12: =SUM(Q12:R12)-2 -> 1 | U12: =(Q12*(Q12-1)*(2*Q12-1)+R12*(R12+1)*(2*R12+1))/3+S12 -> 6 | V12: =D12-S12 -> 2 | W12: =W11+90/4 -> 1305 | X12: =MOD(W12,360) -> 225
B13: =MAX(TRUNC((W13+180)/360)-2,1) -> 2 | C13: 4 | D13: =U13-2 -> 5 | E13: B | F13: Boron | G13: 5p+6n+5e | I13: 4-3-4 | J13: 3-2-3 | K13: 2-2-3 | M13: 2-1-3 | O13: 1-1-3 | Q13: 2 | R13: 1 | S13: 3 | T13: =SUM(Q13:R13)-2 -> 1 | U13: =(Q13*(Q13-1)*(2*Q13-1)+R13*(R13+1)*(2*R13+1))/3+S13 -> 7 | V13: =D13-S13 -> 2 | W13: =W12+90/4 -> 1327.5 | X13: =MOD(W13,360) -> 247.5
B14: =MAX(TRUNC((W14+180)/360)-2,1) -> 2 | C14: 5 | D14: =U14-2 -> 6 | E14: C | F14: Carbon | G14: 6p+6n+6e | I14: 4-3-5 | J14: 3-2-4 | K14: 2-2-4 | M14: 2-1-4 | O14: 1-1-4 | Q14: 2 | R14: 1 | S14: 4 | T14: =SUM(Q14:R14)-2 -> 1 | U14: =(Q14*(Q14-1)*(2*Q14-1)+R14*(R14+1)*(2*R14+1))/3+S14 -> 8 | V14: =D14-S14 -> 2 | W14: =W13+90/4 -> 1350 | X14: =MOD(W14,360) -> 270
B15: =MAX(TRUNC((W15+180)/360)-2,1) -> 2 | J15: 3-3-(4) | K15: 3-2-(4) | M15: 2-2-(4) | O15: 2-1-(4) | Q15: 2 | R15: 2 | S15: -4 | T15: =SUM(Q15:R15)-2 -> 2 | U15: =(Q15*(Q15-1)*(2*Q15-1)+R15*(R15+1)*(2*R15+1))/3+S15 -> 8 | V15: =D15-S15 -> 4 | W15: =W14+90/4 -> 1372.5
B16: =MAX(TRUNC((W16+180)/360)-2,1) -> 2 | C16: 6 | D16: =U16-2 -> 7 | E16: N | F16: Nitrogen | G16: 7p+7n+7e | I16: 4-3-6 | J16: 3-3-(3) | K16: 3-2-(3) | M16: 2-2-(3) | O16: 2-1-(3) | Q16: 2 | R16: 2 | S16: -3 | T16: =SUM(Q16:R16)-2 -> 2 | U16: =(Q16*(Q16-1)*(2*Q16-1)+R16*(R16+1)*(2*R16+1))/3+S16 -> 9 | V16: =D16-S16 -> 10 | W16: =W14+90/4 -> 1372.5 | X16: =MOD(W16,360) -> 292.5
B17: =MAX(TRUNC((W17+180)/360)-2,1) -> 2 | C17: 7 | D17: =U17-2 -> 8 | E17: O | F17: Oxygen | G17: 8p+8n+8e | I17: 4-3-7 | J17: 3-3-(2) | K17: 3-2-(2) | M17: 2-2-(2) | O17: 2-1-(2) | Q17: 2 | R17: 2 | S17: -2 | T17: =SUM(Q17:R17)-2 -> 2 | U17: =(Q17*(Q17-1)*(2*Q17-1)+R17*(R17+1)*(2*R17+1))/3+S17 -> 10 | V17: =D17-S17 -> 10 | W17: =W16+90/4 -> 1395 | X17: =MOD(W17,360) -> 315
B18: =MAX(TRUNC((W18+180)/360)-2,1) -> 2 | C18: 8 | D18: =U18-2 -> 9 | E18: F | F18: Fluorine | G18: 9p+10n+9e | I18: 4-3-8 | J18: 3-3-(1) | K18: 3-2-(1) | M18: 2-2-(1) | O18: 2-1-(1) | Q18: 2 | R18: 2 | S18: -1 | T18: =SUM(Q18:R18)-2 -> 2 | U18: =(Q18*(Q18-1)*(2*Q18-1)+R18*(R18+1)*(2*R18+1))/3+S18 -> 11 | V18: =D18-S18 -> 10 | W18: =W17+90/4 -> 1417.5 | X18: =MOD(W18,360) -> 337.5
B19: =MAX(TRUNC((W19+180)/360)-2,1) -> 2 | C19: 1 | D19: =U19-2 -> 10 | E19: Ne | F19: Neon | G19: 10p+10n+10e | I19: 4-4-1 | J19: 3-3-0 | K19: 3-2-0 | M19: 2-2-0 | O19: 2-1-0 | Q19: 2 | R19: 2 | S19: 0 | T19: =SUM(Q19:R19)-2 -> 2 | U19: =(Q19*(Q19-1)*(2*Q19-1)+R19*(R19+1)*(2*R19+1))/3+S19 -> 12 | V19: =D19-S19 -> 10 | W19: =W18+90/4 -> 1440 | X19: =MOD(W19,360) -> 0 | Y19: 3 | Z19: 6
B20: =MAX(TRUNC((W20+180)/360)-2,1) -> 2 | C20: 2 | D20: =U20-2 -> 11 | E20: Na | F20: Sodium | G20: 11p+12n+11e | I20: 4-4-2 | J20: 3-3-1 | K20: 3-2-1 | M20: 2-2-1 | O20: 2-1-1 | Q20: 2 | R20: 2 | S20: 1 | T20: =SUM(Q20:R20)-2 -> 2 | U20: =(Q20*(Q20-1)*(2*Q20-1)+R20*(R20+1)*(2*R20+1))/3+S20 -> 13 | V20: =D20-S20 -> 10 | W20: =W19+90/4 -> 1462.5 | X20: =MOD(W20,360) -> 22.5
B21: =MAX(TRUNC((W21+180)/360)-2,1) -> 2 | C21: 3 | D21: =U21-2 -> 12 | E21: Mg | F21: Magnesium | G21: 12p+12n+12e | I21: 4-4-3 | J21: 3-3-2 | K21: 3-2-2 | M21: 2-2-2 | O21: 2-1-2 | Q21: 2 | R21: 2 | S21: 2 | T21: =SUM(Q21:R21)-2 -> 2 | U21: =(Q21*(Q21-1)*(2*Q21-1)+R21*(R21+1)*(2*R21+1))/3+S21 -> 14 | V21: =D21-S21 -> 10 | W21: =W20+90/4 -> 1485 | X21: =MOD(W21,360) -> 45
B22: =MAX(TRUNC((W22+180)/360)-2,1) -> 2 | C22: 4 | D22: =U22-2 -> 13 | E22: Al | F22: Aluminum | G22: 13p+14n+13e | I22: 4-4-4 | J22: 3-3-3 | K22: 3-2-3 | M22: 2-2-3 | O22: 2-1-3 | Q22: 2 | R22: 2 | S22: 3 | T22: =SUM(Q22:R22)-2 -> 2 | U22: =(Q22*(Q22-1)*(2*Q22-1)+R22*(R22+1)*(2*R22+1))/3+S22 -> 15 | V22: =D22-S22 -> 10 | W22: =W21+90/4 -> 1507.5 | X22: =MOD(W22,360) -> 67.5
B23: =MAX(TRUNC((W23+180)/360)-2,1) -> 2 | C23: 5 | D23: =U23-2 -> 14 | E23: Si | F23: Silicon | G23: 14p+14n+14e | I23: 4-4-5 | J23: 3-3-4 | K23: 3-2-4 | M23: 2-2-4 | O23: 2-1-4 | Q23: 2 | R23: 2 | S23: 4 | T23: =SUM(Q23:R23)-2 -> 2 | U23: =(Q23*(Q23-1)*(2*Q23-1)+R23*(R23+1)*(2*R23+1))/3+S23 -> 16 | V23: =D23-S23 -> 10 | W23: =W22+90/4 -> 1530 | X23: =MOD(W23,360) -> 90
B24: =MAX(TRUNC((W24+180)/360)-2,1) -> 2 | J24: 3-4-(4) | K24: 3-3-(4) | M24: 3-2-(4) | O24: 2-2-(4) | Q24: 3 | R24: 2 | S24: -4 | T24: =SUM(Q24:R24)-2 -> 3 | U24: =(Q24*(Q24-1)*(2*Q24-1)+R24*(R24+1)*(2*R24+1))/3+S24 -> 16 | V24: =D24-S24 -> 4 | W24: =W23+90/4 -> 1552.5 | X24: =MOD(W24,360) -> 112.5
B25: =MAX(TRUNC((W25+180)/360)-2,1) -> 2 | C25: 6 | D25: =U25-2 -> 15 | E25: P | F25: Phosphorus | G25: 15p+16n+15e | I25: 4-4-6 | J25: 3-4-(3) | K25: 3-3-(3) | M25: 3-2-(3) | O25: 2-2-(3) | Q25: 3 | R25: 2 | S25: -3 | T25: =SUM(Q25:R25)-2 -> 3 | U25: =(Q25*(Q25-1)*(2*Q25-1)+R25*(R25+1)*(2*R25+1))/3+S25 -> 17 | V25: =D25-S25 -> 18 | W25: =W23+90/4 -> 1552.5 | X25: =MOD(W25,360) -> 112.5
B26: =MAX(TRUNC((W26+180)/360)-2,1) -> 2 | C26: 7 | D26: =U26-2 -> 16 | E26: S | F26: Sulfur | G26: 16p+16n+16e | I26: 4-4-7 | J26: 3-4-(2) | K26: 3-3-(2) | M26: 3-2-(2) | O26: 2-2-(2) | Q26: 3 | R26: 2 | S26: -2 | T26: =SUM(Q26:R26)-2 -> 3 | U26: =(Q26*(Q26-1)*(2*Q26-1)+R26*(R26+1)*(2*R26+1))/3+S26 -> 18 | V26: =D26-S26 -> 18 | W26: =W25+90/4 -> 1575 | X26: =MOD(W26,360) -> 135
B27: =MAX(TRUNC((W27+180)/360)-2,1) -> 2 | C27: 8 | D27: =U27-2 -> 17 | E27: Cl | F27: Chlorine | G27: 17p+18n+17e | I27: 4-4-8 | J27: 3-4-(1) | K27: 3-3-(1) | M27: 3-2-(1) | O27: 2-2-(1) | Q27: 3 | R27: 2 | S27: -1 | T27: =SUM(Q27:R27)-2 -> 3 | U27: =(Q27*(Q27-1)*(2*Q27-1)+R27*(R27+1)*(2*R27+1))/3+S27 -> 19 | V27: =D27-S27 -> 18 | W27: =W26+90/4 -> 1597.5 | X27: =MOD(W27,360) -> 157.5
A28: Intermediate Atomic Group | B28: =MAX(TRUNC((W28+180)/360)-2,1) -> 3 | C28: 1 | D28: =U28-2 -> 18 | E28: Ar | F28: Argon | G28: 18p+22n+18e | I28: 5-4-1 | J28: 3-4-0 | K28: 3-3-0 | M28: 3-2-0 | O28: 2-2-0 | Q28: 3 | R28: 2 | S28: 0 | T28: =SUM(Q28:R28)-2 -> 3 | U28: =(Q28*(Q28-1)*(2*Q28-1)+R28*(R28+1)*(2*R28+1))/3+S28 -> 20 | V28: =D28-S28 -> 18 | W28: =W27+90/4 -> 1620 | X28: =MOD(W28,360) -> 180 | Y28: 4 | Z28: 8
B29: =MAX(TRUNC((W29+180)/360)-2,1) -> 3 | C29: 2 | D29: =U29-2 -> 19 | E29: K | F29: Potassium | G29: 19p+20n+19e | I29: 5-4-2 | J29: 4-3-1 | K29: 3-3-1 | M29: 3-2-1 | O29: 2-2-1 | Q29: 3 | R29: 2 | S29: 1 | T29: =SUM(Q29:R29)-2 -> 3 | U29: =(Q29*(Q29-1)*(2*Q29-1)+R29*(R29+1)*(2*R29+1))/3+S29 -> 21 | V29: =D29-S29 -> 18 | W29: =W28+90/9 -> 1630 | X29: =MOD(W29,360) -> 190
B30: =MAX(TRUNC((W30+180)/360)-2,1) -> 3 | C30: 3 | D30: =U30-2 -> 20 | E30: Ca | F30: Calcium | G30: 20p+20n+20e | I30: 5-4-3 | J30: 4-3-2 | K30: 3-3-2 | M30: 3-2-2 | O30: 2-2-2 | Q30: 3 | R30: 2 | S30: 2 | T30: =SUM(Q30:R30)-2 -> 3 | U30: =(Q30*(Q30-1)*(2*Q30-1)+R30*(R30+1)*(2*R30+1))/3+S30 -> 22 | V30: =D30-S30 -> 18 | W30: =W29+90/9 -> 1640 | X30: =MOD(W30,360) -> 200
B31: =MAX(TRUNC((W31+180)/360)-2,1) -> 3 | C31: 4 | D31: =U31-2 -> 21 | E31: Sc | F31: Scandium | G31: 21p+24n+21e | I31: 5-4-4 | J31: 4-3-3 | K31: 3-3-3 | M31: 3-2-3 | O31: 2-2-3 | Q31: 3 | R31: 2 | S31: 3 | T31: =SUM(Q31:R31)-2 -> 3 | U31: =(Q31*(Q31-1)*(2*Q31-1)+R31*(R31+1)*(2*R31+1))/3+S31 -> 23 | V31: =D31-S31 -> 18 | W31: =W30+90/9 -> 1650 | X31: =MOD(W31,360) -> 210
B32: =MAX(TRUNC((W32+180)/360)-2,1) -> 3 | C32: 5 | D32: =U32-2 -> 22 | E32: Ti | F32: Titanium | G32: 22p+26n+22e | I32: 5-4-5 | J32: 4-3-4 | K32: 3-3-4 | M32: 3-2-4 | O32: 2-2-4 | Q32: 3 | R32: 2 | S32: 4 | T32: =SUM(Q32:R32)-2 -> 3 | U32: =(Q32*(Q32-1)*(2*Q32-1)+R32*(R32+1)*(2*R32+1))/3+S32 -> 24 | V32: =D32-S32 -> 18 | W32: =W31+90/9 -> 1660 | X32: =MOD(W32,360) -> 220
B33: =MAX(TRUNC((W33+180)/360)-2,1) -> 3 | C33: 6 | D33: =U33-2 -> 23 | E33: V | F33: Vanadium | G33: 23p+28n+23e | I33: 5-4-6 | J33: 4-3-5 | K33: 3-3-5 | M33: 3-2-5 | O33: 2-2-5 | Q33: 3 | R33: 2 | S33: 5 | T33: =SUM(Q33:R33)-2 -> 3 | U33: =(Q33*(Q33-1)*(2*Q33-1)+R33*(R33+1)*(2*R33+1))/3+S33 -> 25 | V33: =D33-S33 -> 18 | W33: =W32+90/9 -> 1670 | X33: =MOD(W33,360) -> 230
B34: =MAX(TRUNC((W34+180)/360)-2,1) -> 3 | C34: 7 | D34: =U34-2 -> 24 | E34: Cr | F34: Chromium | G34: 24p+28n+24e | I34: 5-4-7 | J34: 4-3-6 | K34: 3-3-6 | M34: 3-2-6 | O34: 2-2-6 | Q34: 3 | R34: 2 | S34: 6 | T34: =SUM(Q34:R34)-2 -> 3 | U34: =(Q34*(Q34-1)*(2*Q34-1)+R34*(R34+1)*(2*R34+1))/3+S34 -> 26 | V34: =D34-S34 -> 18 | W34: =W33+90/9 -> 1680 | X34: =MOD(W34,360) -> 240
B35: =MAX(TRUNC((W35+180)/360)-2,1) -> 3 | C35: 8 | D35: =U35-2 -> 25 | E35: Mn | F35: Manganese | G35: 25p+30n+25e | I35: 5-4-8 | J35: 4-3-7 | K35: 3-3-7 | M35: 3-2-7 | O35: 2-2-7 | Q35: 3 | R35: 2 | S35: 7 | T35: =SUM(Q35:R35)-2 -> 3 | U35: =(Q35*(Q35-1)*(2*Q35-1)+R35*(R35+1)*(2*R35+1))/3+S35 -> 27 | V35: =D35-S35 -> 18 | W35: =W34+90/9 -> 1690 | X35: =MOD(W35,360) -> 250
B36: =MAX(TRUNC((W36+180)/360)-2,1) -> 3 | C36: 9 | D36: =U36-2 -> 26 | E36: Fe | F36: Iron | G36: 26p+30n+26e | I36: 5-4-9 | J36: 4-3-8 | K36: 3-3-8 | M36: 3-2-8 | O36: 2-2-8 | Q36: 3 | R36: 2 | S36: 8 | T36: =SUM(Q36:R36)-2 -> 3 | U36: =(Q36*(Q36-1)*(2*Q36-1)+R36*(R36+1)*(2*R36+1))/3+S36 -> 28 | V36: =D36-S36 -> 18 | W36: =W35+90/9 -> 1700 | X36: =MOD(W36,360) -> 260
B37: =MAX(TRUNC((W37+180)/360)-2,1) -> 3 | C37: 10 | D37: =U37-2 -> 27 | E37: Co | F37: Cobalt | G37: 27p+32n+27e | I37: 5-4-10 | J37: 4-3-9 | K37: 3-3-9 | M37: 3-2-9 | O37: 2-2-9 | Q37: 3 | R37: 2 | S37: 9 | T37: =SUM(Q37:R37)-2 -> 3 | U37: =(Q37*(Q37-1)*(2*Q37-1)+R37*(R37+1)*(2*R37+1))/3+S37 -> 29 | V37: =D37-S37 -> 18 | W37: =W36+90/9 -> 1710 | X37: =MOD(W37,360) -> 270
B38: =MAX(TRUNC((W38+180)/360)-2,1) -> 3 | J38: 4-4-(9) | K38: 4-3-(9) | M38: 3-3-(9) | O38: 3-2-(9) | Q38: 3 | R38: 3 | S38: -9 | T38: =SUM(Q38:R38)-2 -> 4 | U38: =(Q38*(Q38-1)*(2*Q38-1)+R38*(R38+1)*(2*R38+1))/3+S38 -> 29 | W38: =W37+90/9 -> 1720 | X38: =MOD(W38,360) -> 280
B39: =MAX(TRUNC((W39+180)/360)-2,1) -> 3 | C39: 11 | D39: =U39-2 -> 28 | E39: Ni | F39: Nickel | G39: 28p+31n+28e | I39: 5-4-11 | J39: 4-3-10 | K39: 4-3-(8) | M39: 3-3-(8) | O39: 3-2-(8) | Q39: 3 | R39: 3 | S39: -8 | T39: =SUM(Q39:R39)-2 -> 4 | U39: =(Q39*(Q39-1)*(2*Q39-1)+R39*(R39+1)*(2*R39+1))/3+S39 -> 30 | V39: =D39-S39 -> 36 | W39: =W37+90/9 -> 1720 | X39: =MOD(W39,360) -> 280
B40: =MAX(TRUNC((W40+180)/360)-2,1) -> 3 | C40: 12 | D40: =U40-2 -> 29 | E40: Cu | F40: Copper | G40: 29p+35n+29e | I40: 5-4-12 | J40: 4-3-11 | K40: 4-3-(7) | M40: 3-3-(7) | O40: 3-2-(7) | Q40: 3 | R40: 3 | S40: -7 | T40: =SUM(Q40:R40)-2 -> 4 | U40: =(Q40*(Q40-1)*(2*Q40-1)+R40*(R40+1)*(2*R40+1))/3+S40 -> 31 | V40: =D40-S40 -> 36 | W40: =W39+90/9 -> 1730 | X40: =MOD(W40,360) -> 290
...

Sheet Particles-ARCHIVE
B1: Table 1: Subatomic Particles (single, double-rotating systems)
A2: Sector | B2: Symbol | C2: Particle / Anti-Particle | D2: Conventional | E2: RS/RS2 | F2: Dimensions | I2: Notational Systems | M2: Time Region | N2: TSR
F3: A | G3: B | H3: C | I3: Speed | J3: Displacement | K3: Subatomic | M3: Turn | N3: Shear Angle (°)
C6: Muon Antineutrino
C7: Electron Antineutrino | I7: (2)-1-1 | J7: (1)-(1)-0 | K7: (1)-0-0
A8: Cosmic → | B8: ̅H | C8: Antihydrogen | E8: ̅H = ̅p + ̅νe* | F8: -3 | G8: -3 | H8: 3 | I8: =IF(F8<0,"("&ABS(F8)&")-",F8&"-")&IF(G8<0,"("&ABS(G8)&")-",G8&"-")&IF(H8<0,"("&ABS(H8)&")",H8) -> (3)-(3)-3 | J8: (2)-(2)-2 | K8: (2)-(1)-2 | L8: (1½)-(1½)-2 | M8: =M10-90/1 -> -810 | N8: =MOD(M8,-360) -> -90
J9: (2)-(1)-0 | K9: (1)-(1)-0
B10: ̅p | C10: Particle Antiproton | F10: -2 | G10: -2 | H10: -2 | I10: =IF(F10<0,"("&ABS(F10)&")-",F10&"-")&IF(G10<0,"("&ABS(G10)&")-",G10&"-")&IF(H10<0,"("&ABS(H10)&")",H10) -> (2)-(2)-(2) | J10: (1)-(1)-(1) | K10: (1)-0-(1) | L10: (½)-(½)-(1) | M10: =M12-90/1 -> -720 | N10: =MOD(M10,-360) -> 0
I11: =IF(F11<0,"("&ABS(F11)&")-",F11&"-")&IF(G11<0,"("&ABS(G11)&")-",G11&"-")&IF(H11<0,"("&ABS(H11)&")",H11) -> -- | K11: (1)-(1)-0
B12: ̅νµ | C12: Muon Antineutrino | F12: -2 | G12: -2 | H12: 1 | I12: =IF(F12<0,"("&ABS(F12)&")-",F12&"-")&IF(G12<0,"("&ABS(G12)&")-",G12&"-")&IF(H12<0,"("&ABS(H12)&")",H12) -> (2)-(2)-1 | J12: (1)-(1)-0 | K12: (1)-0-0 | L12: (½)-(½)-0 | M12: =M13-90/1 -> -630 | N12: =MOD(M12,-360) -> -270
B13: ̅νe | C13: Electron Antineutrino | E13: ̅νe = ̅νµ + ̅e | F13: -2 | G13: -2 | H13: 2 | I13: =IF(F13<0,"("&ABS(F13)&")-",F13&"-")&IF(G13<0,"("&ABS(G13)&")-",G13&"-")&IF(H13<0,"("&ABS(H13)&")",H13) -> (2)-(2)-2 | J13: (1)-(1)-1 | K13: (1)-0-1 | L13: (½)-(½)-1 | M13: =M14-90/1 -> -540 | N13: =MOD(M13,-360) -> -180
B14: e-, β- | C14: Antipositron (Electron2) | D14: e | E14: rotating unit of space | F14: -2 | G14: 1 | H14: -1 | I14: =IF(F14<0,"("&ABS(F14)&")-",F14&"-")&IF(G14<0,"("&ABS(G14)&")-",G14&"-")&IF(H14<0,"("&ABS(H14)&")",H14) -> (2)-1-(1) | J14: (1)-0-(1) | K14: 0-0-(1) | M14: =M15-90/1 -> -450 | N14: =MOD(M14,-360) -> -90
B15: RB | C15: Antiphoton: circularly-polarized (CCW) | E15: ½ of 1-D RB | F15: -2 | G15: 1 | H15: 1 | I15: =IF(F15<0,"("&ABS(F15)&")-",F15&"-")&IF(G15<0,"("&ABS(G15)&")-",G15&"-")&IF(H15<0,"("&ABS(H15)&")",H15) -> (2)-1-1 | J15: (1)-0-0 combined | K15: 0-0-0 net | M15: =M16-90/1 -> -360 | N15: =MOD(M15,-360) -> 0 | P15: 1-D Rotational Base 1
B16: LV - | C16: Antiphoton: linearly-polarlized (-) | E16: direction rev in space | F16: -2 | G16: 1 | H16: 1 | I16: =IF(F16<0,"("&ABS(F16)&")-",F16&"-")&IF(G16<0,"("&ABS(G16)&")-",G16&"-")&IF(H16<0,"("&ABS(H16)&")",H16) -> (2)-1-1 | J16: 0-0-0 | K16: - | M16: =-M17-90/1 -> -270 | N16: =MOD(M16,-360) -> -270
A17: M/C boundary | B17: L+ | C17: Unit (+1) speed a.k.a. "speed of light" | E17: uniform motion | F17: 1 | G17: 1 | H17: 1 | I17: =IF(F17<0,"("&ABS(F17)&")-",F17&"-")&IF(G17<0,"("&ABS(G17)&")-",G17&"-")&IF(H17<0,"("&ABS(H17)&")",H17) -> 1-1-1 | J17: 0-0-0 | K17: - | M17: 180 | N17: =MOD(M17,360) -> 180
A19: ← Material | B19: LV - | C19: Photon: linearly-polarlized (+) | E19: direction rev in time | F19: 2 | G19: 1 | H19: 1 | I19: =IF(F19<0,"("&ABS(F19)&")-",F19&"-")&IF(G19<0,"("&ABS(G19)&")-",G19&"-")&IF(H19<0,"("&ABS(H19)&")",H19) -> 2-1-1 | J19: 0-0-0 | K19: - | M19: =M17+90/1 -> 270 | N19: =MOD(M19,360) -> 270
B20: RB | C20: Photon: circularly-polarized (CW) | E20: ½ of 1-D RB | F20: 2 | G20: 2 | H20: 1 | I20: =IF(F20<0,"("&ABS(F20)&")-",F20&"-")&IF(G20<0,"("&ABS(G20)&")-",G20&"-")&IF(H20<0,"("&ABS(H20)&")",H20) -> 2-2-1 | J20: 1-0-0 combined | K20: 0-0-0 net | M20: =M19+90/1 -> 360 | N20: =MOD(M20,360) -> 0
B21: e+, β+ | C21: Positron (antielectron) | D21: ̅e | E21: rotating unit of time | F21: 2 | G21: 1 | H21: 2 | I21: =IF(F21<0,"("&ABS(F21)&")-",F21&"-")&IF(G21<0,"("&ABS(G21)&")-",G21&"-")&IF(H21<0,"("&ABS(H21)&")",H21) -> 2-1-2 | J21: 1-0-1 | K21: 0-0-1 | M21: =M20+90/1 -> 450 | N21: =MOD(M21,360) -> 90
B22: νe | C22: Electron Neutrino3 | E22: νe = νµ + e- | F22: 2 | G22: 2 | H22: -1 | I22: =IF(F22<0,"("&ABS(F22)&")-",F22&"-")&IF(G22<0,"("&ABS(G22)&")-",G22&"-")&IF(H22<0,"("&ABS(H22)&")",H22) -> 2-2-(1) | J22: 1-1-(1) | K22: 1-0-(1) | L22: ½-½-(1) | M22: =M21+90/1 -> 540 | N22: =MOD(M22,360) -> 180
B23: νµ | C23: Muon Neutrino a.k.a. "massless neutron" | F23: 2 | G23: 2 | H23: 1 | I23: =IF(F23<0,"("&ABS(F23)&")-",F23&"-")&IF(G23<0,"("&ABS(G23)&")-",G23&"-")&IF(H23<0,"("&ABS(H23)&")",H23) -> 2-2-1 | J23: 1-1-0 | K23: 1-0-0 | L23: ½-½-0 | M23: =M22+90/1 -> 630 | N23: =MOD(M23,360) -> 270
B24: p+ | C24: Particle Proton | F24: 2 | G24: 2 | H24: 2 | I24: =IF(F24<0,"("&ABS(F24)&")-",F24&"-")&IF(G24<0,"("&ABS(G24)&")-",G24&"-")&IF(H24<0,"("&ABS(H24)&")",H24) -> 2-2-2 | J24: 1-1-1 | K24: 1-0-1 | L24: ½-½-1 | M24: =M23+90/1 -> 720 | N24: =MOD(M24,360) -> 0
I25: =IF(F25<0,"("&ABS(F25)&")-",F25&"-")&IF(G25<0,"("&ABS(G25)&")-",G25&"-")&IF(H25<0,"("&ABS(H25)&")",H25) -> -- | K25: 1-1-(1) | M25: =M24+90/1 -> 810 | N25: =MOD(M25,360) -> 90
B26: 2p+, H+ | C26: Hydrogen (Proton isotope) | D26: p+e | E26: H+ = p+ + νe* | F26: 3 | G26: 3 | H26: -2 | I26: =IF(F26<0,"("&ABS(F26)&")-",F26&"-")&IF(G26<0,"("&ABS(G26)&")-",G26&"-")&IF(H26<0,"("&ABS(H26)&")",H26) -> 3-3-(2) | J26: 2-2-(2) | K26: 2-1-(2) | L26: 1½-1½-(2) | M26: =M24+90/1 -> 810 | N26: =MOD(M26,360) -> 90
I27: =IF(F27<0,"("&ABS(F27)&")-",F27&"-")&IF(G27<0,"("&ABS(G27)&")-",G27&"-")&IF(H27<0,"("&ABS(H27)&")",H27) -> -- | J27: 2-1-0 | K27: 1-1-0 | M27: =M26+90/1 -> 900 | N27: =MOD(M27,360) -> 180
